BEGIN:VCALENDAR
VERSION:2.0
PRODID:-// - ECPv6.15.20//NONSGML v1.0//EN
CALSCALE:GREGORIAN
METHOD:PUBLISH
X-ORIGINAL-URL:https://budiodrziv.rs
X-WR-CALDESC:Events for 
REFRESH-INTERVAL;VALUE=DURATION:PT1H
X-Robots-Tag:noindex
X-PUBLISHED-TTL:PT1H
BEGIN:VTIMEZONE
TZID:Europe/Belgrade
BEGIN:DAYLIGHT
TZOFFSETFROM:+0100
TZOFFSETTO:+0200
TZNAME:CEST
DTSTART:20250330T010000
END:DAYLIGHT
BEGIN:STANDARD
TZOFFSETFROM:+0200
TZOFFSETTO:+0100
TZNAME:CET
DTSTART:20251026T010000
END:STANDARD
BEGIN:DAYLIGHT
TZOFFSETFROM:+0100
TZOFFSETTO:+0200
TZNAME:CEST
DTSTART:20260329T010000
END:DAYLIGHT
BEGIN:STANDARD
TZOFFSETFROM:+0200
TZOFFSETTO:+0100
TZNAME:CET
DTSTART:20261025T010000
END:STANDARD
BEGIN:DAYLIGHT
TZOFFSETFROM:+0100
TZOFFSETTO:+0200
TZNAME:CEST
DTSTART:20270328T010000
END:DAYLIGHT
BEGIN:STANDARD
TZOFFSETFROM:+0200
TZOFFSETTO:+0100
TZNAME:CET
DTSTART:20271031T010000
END:STANDARD
END:VTIMEZONE
BEGIN:VEVENT
DTSTART;VALUE=DATE:20260330
DTEND;VALUE=DATE:20260331
DTSTAMP:20260426T043110
CREATED:20260131T105144Z
LAST-MODIFIED:20260131T105144Z
UID:2044-1774828800-1774915199@budiodrziv.rs
SUMMARY:Međunarodni dan bez otpada
DESCRIPTION:Podseća na važnost smanjenja otpada kroz ponovnu upotrebu i cirkularne prakse. \nSvet bez otpada je cilj održivog društva. \nPoruka: Živi bez otpada – svaki mali korak menja svet. \nPovezanost sa UN ciljevima održivog razvoja \nSDG 11 – održivi gradovi i zajednice \nSDG 12 – Odgovorna potrošnja i proizvodnja \nDomaćinstva\, mala preduzeća i pružaoci javnih usluga svake godine generišu između 2\,1 milijarde i 2\,3 milijarde tona čvrstog komunalnog otpada – od ambalaže i elektronike do plastike i hrane. Međutim\, globalne službe za upravljanje otpadom nisu dovoljno opremljene da se nose sa ovim\, jer 2\,7 milijardi ljudi nema pristup sakupljanju čvrstog otpada\, a samo 61-62% čvrstog komunalnog otpada se upravlja u kontrolisanim objektima. Čovečanstvo mora hitno da deluje kako bi se rešila kriza otpada.
URL:https://budiodrziv.rs/kalendar/medunarodni-dan-bez-otpada/
ATTACH;FMTTYPE=image/jpeg:https://budiodrziv.rs/wp-content/uploads/2026/01/ga7bdb633d20ee175ea891b4d99ac1c53f7d7a0d3fdafb339826310708c2e2fc137a7d4fba35eac6fb73a05f41234065d_640-4337477-e1776934563300.jpg
END:VEVENT
END:VCALENDAR