BEGIN:VCALENDAR
VERSION:2.0
PRODID:-// - ECPv6.15.20//NONSGML v1.0//EN
CALSCALE:GREGORIAN
METHOD:PUBLISH
X-ORIGINAL-URL:https://budiodrziv.rs
X-WR-CALDESC:Events for 
REFRESH-INTERVAL;VALUE=DURATION:PT1H
X-Robots-Tag:noindex
X-PUBLISHED-TTL:PT1H
BEGIN:VTIMEZONE
TZID:Europe/Belgrade
BEGIN:DAYLIGHT
TZOFFSETFROM:+0100
TZOFFSETTO:+0200
TZNAME:CEST
DTSTART:20250330T010000
END:DAYLIGHT
BEGIN:STANDARD
TZOFFSETFROM:+0200
TZOFFSETTO:+0100
TZNAME:CET
DTSTART:20251026T010000
END:STANDARD
BEGIN:DAYLIGHT
TZOFFSETFROM:+0100
TZOFFSETTO:+0200
TZNAME:CEST
DTSTART:20260329T010000
END:DAYLIGHT
BEGIN:STANDARD
TZOFFSETFROM:+0200
TZOFFSETTO:+0100
TZNAME:CET
DTSTART:20261025T010000
END:STANDARD
BEGIN:DAYLIGHT
TZOFFSETFROM:+0100
TZOFFSETTO:+0200
TZNAME:CEST
DTSTART:20270328T010000
END:DAYLIGHT
BEGIN:STANDARD
TZOFFSETFROM:+0200
TZOFFSETTO:+0100
TZNAME:CET
DTSTART:20271031T010000
END:STANDARD
END:VTIMEZONE
BEGIN:VEVENT
DTSTART;VALUE=DATE:20260428
DTEND;VALUE=DATE:20260429
DTSTAMP:20260424T153240
CREATED:20260201T094144Z
LAST-MODIFIED:20260201T094144Z
UID:2215-1777334400-1777420799@budiodrziv.rs
SUMMARY:Svetski dan bezbednosti na radu
DESCRIPTION:Podseća na važnost zaštite radnika i stvaranja sigurnih radnih uslova. \nBezbedan rad je temelj dostojanstvenog života i održive ekonomije. \nPoruka: Sigurnost na radu je pravo – čuvaj zdravlje i dostojanstvo. \nPovezanost sa UN ciljevima održivog razvoja \nSDG 8 -Dostojanstven rad i ekonomski rast
URL:https://budiodrziv.rs/kalendar/svetski-dan-bezbednosti-na-radu/
ATTACH;FMTTYPE=image/jpeg:https://budiodrziv.rs/wp-content/uploads/2026/02/HSE-e1776934485923.jpg
END:VEVENT
END:VCALENDAR