BEGIN:VCALENDAR
VERSION:2.0
PRODID:-// - ECPv6.15.20//NONSGML v1.0//EN
CALSCALE:GREGORIAN
METHOD:PUBLISH
X-ORIGINAL-URL:https://budiodrziv.rs
X-WR-CALDESC:Events for 
REFRESH-INTERVAL;VALUE=DURATION:PT1H
X-Robots-Tag:noindex
X-PUBLISHED-TTL:PT1H
BEGIN:VTIMEZONE
TZID:Europe/Belgrade
BEGIN:DAYLIGHT
TZOFFSETFROM:+0100
TZOFFSETTO:+0200
TZNAME:CEST
DTSTART:20250330T010000
END:DAYLIGHT
BEGIN:STANDARD
TZOFFSETFROM:+0200
TZOFFSETTO:+0100
TZNAME:CET
DTSTART:20251026T010000
END:STANDARD
BEGIN:DAYLIGHT
TZOFFSETFROM:+0100
TZOFFSETTO:+0200
TZNAME:CEST
DTSTART:20260329T010000
END:DAYLIGHT
BEGIN:STANDARD
TZOFFSETFROM:+0200
TZOFFSETTO:+0100
TZNAME:CET
DTSTART:20261025T010000
END:STANDARD
BEGIN:DAYLIGHT
TZOFFSETFROM:+0100
TZOFFSETTO:+0200
TZNAME:CEST
DTSTART:20270328T010000
END:DAYLIGHT
BEGIN:STANDARD
TZOFFSETFROM:+0200
TZOFFSETTO:+0100
TZNAME:CET
DTSTART:20271031T010000
END:STANDARD
END:VTIMEZONE
BEGIN:VEVENT
DTSTART;VALUE=DATE:20260515
DTEND;VALUE=DATE:20260516
DTSTAMP:20260422T181045
CREATED:20260201T111354Z
LAST-MODIFIED:20260201T111354Z
UID:2228-1778803200-1778889599@budiodrziv.rs
SUMMARY:Međunarodni dan porodice
DESCRIPTION:Obeležava se važnost porodice kao osnovne jedinice društva. \nPorodice oblikuju vrednosti i podržavaju održivi razvoj zajednica. \nPoruka: Porodica je temelj društva – neguj ljubav i solidarnost. \nPovezanost sa UN ciljevima održivog razvoja \nSDG 1 Svet bez siromaštva \nSDG 3 Dobro zdravlje i blagostanje
URL:https://budiodrziv.rs/kalendar/medunarodni-dan-porodice/
ATTACH;FMTTYPE=image/jpeg:https://budiodrziv.rs/wp-content/uploads/2026/02/pexels-photo-4894882-4894882.jpg
END:VEVENT
BEGIN:VEVENT
DTSTART;VALUE=DATE:20260516
DTEND;VALUE=DATE:20260517
DTSTAMP:20260422T181045
CREATED:20260201T111951Z
LAST-MODIFIED:20260201T111951Z
UID:2231-1778889600-1778975999@budiodrziv.rs
SUMMARY:Međunarodni dan života u miru
DESCRIPTION:Podseća na značaj mirnog suživota i međusobnog poštovanja. \nMir je preduslov za održivi razvoj. \nPoruka: Živi u miru – to je put ka održivosti. \nPovezanost sa UN ciljevima održivog razvoja \nSDG 16 Mir\, pravda i snažne institucije
URL:https://budiodrziv.rs/kalendar/medunarodni-dan-zivota-u-miru/
ATTACH;FMTTYPE=image/jpeg:https://budiodrziv.rs/wp-content/uploads/2026/02/gcf685e963cd637656d628b7fa2581e7f30c28640a53628967cad8703c954ddfee814619238c3dbc0db76641fc6ba0217_640-386673.jpg
END:VEVENT
BEGIN:VEVENT
DTSTART;VALUE=DATE:20260516
DTEND;VALUE=DATE:20260517
DTSTAMP:20260422T181045
CREATED:20260326T101657Z
LAST-MODIFIED:20260326T105113Z
UID:4011-1778889600-1778975999@budiodrziv.rs
SUMMARY:Međunarodni dan svetlosti
DESCRIPTION:Svetlo je glavni ekonomski pokretač\, a tehnologije zasnovane na svetlosti direktno odgovaraju na potrebe čovečanstva pružanjem pristupa informacijama\, promocijom održivog razvoja i povećanjem društvenog zdravlja i blagostanja. \nPoruka: Smanjimo svetlosno zagađenje i koristimo  potencijal svetlosti za negovanje mira i održivog razvoja. \npovezanost sa UN ciljevima održivog razvoja \nSDG 9 -Industrija\, inovacije i infrastruktura \nSDG 7 – Dostupna i obnovljiva energija \nSDG 4 – kvalitetno obrazovanje
URL:https://budiodrziv.rs/kalendar/medunarodni-dan-svetlosti/
ATTACH;FMTTYPE=image/jpeg:https://budiodrziv.rs/wp-content/uploads/2026/03/pexels-photo-745708-745708.jpg
END:VEVENT
BEGIN:VEVENT
DTSTART;VALUE=DATE:20260517
DTEND;VALUE=DATE:20260518
DTSTAMP:20260422T181045
CREATED:20260201T112553Z
LAST-MODIFIED:20260201T112637Z
UID:2234-1778976000-1779062399@budiodrziv.rs
SUMMARY:Svetski dan telekomunikacija i informacionog društva
DESCRIPTION:Slavi se uloga digitalnih tehnologija u povezivanju ljudi i razvoju društva. \nDigitalna inkluzija doprinosi obrazovanju i inovacijama. \nPoruka: Tehnologija povezuje svet – koristi je za dobrobit svih. \nPovezanost sa UN ciljevima održivog razvoja \nSDG 9 -Industrija\, inovacije i infrastruktura \nSDG 4 Kvalitetno obrazovanje
URL:https://budiodrziv.rs/kalendar/svetski-dan-telekomunikacija-i-informacionog-drustva/
ATTACH;FMTTYPE=image/jpeg:https://budiodrziv.rs/wp-content/uploads/2026/02/g03794d4ad2f7a04b54b57c65bf8100ff35ee320602ad4c53a2f0728ce62b3c3280c3b82eb35682e486cd8143f976c408_640-1446557.jpg
END:VEVENT
BEGIN:VEVENT
DTSTART;VALUE=DATE:20260518
DTEND;VALUE=DATE:20260519
DTSTAMP:20260422T181045
CREATED:20260201T115754Z
LAST-MODIFIED:20260201T134619Z
UID:2237-1779062400-1779148799@budiodrziv.rs
SUMMARY:Međunarodni dan muzeja
DESCRIPTION:Obeležava se značaj muzeja u očuvanju kulturnog nasleđa i obrazovanju. \nMuzeji inspirišu zajednice i podstiču kreativnost. Muzeji nemaju granice\, oni imaju mrežu. \nPoruka: Muzeji čuvaju prošlost – inspirišu budućnost. \nPovezanost sa UN ciljevima održivog razvoja \nSDG 11 Održivi gradovi i zajednice
URL:https://budiodrziv.rs/kalendar/medunarodni-dan-muzeja/
ATTACH;FMTTYPE=image/jpeg:https://budiodrziv.rs/wp-content/uploads/2026/02/pexels-photo-3004909-3004909.jpg
END:VEVENT
BEGIN:VEVENT
DTSTART;VALUE=DATE:20260520
DTEND;VALUE=DATE:20260521
DTSTAMP:20260422T181045
CREATED:20260201T134257Z
LAST-MODIFIED:20260201T134257Z
UID:2240-1779235200-1779321599@budiodrziv.rs
SUMMARY:Svetski dan pčela
DESCRIPTION:Podseća na ključnu ulogu pčela u oprašivanju i očuvanju hrane. \nNjihova zaštita je vitalna za ekosisteme i poljoprivredu. \nPoruka: Pčele hrane planetu – čuvaj ih za život. \npovezanost sa UN ciljevima održivog razvoja \nSDG 15 Život na kopnu \nSDG 2 Svet bez gladi
URL:https://budiodrziv.rs/kalendar/svetski-dan-pcela/
ATTACH;FMTTYPE=image/jpeg:https://budiodrziv.rs/wp-content/uploads/2026/02/pcela_beeskeeping.jpg
END:VEVENT
BEGIN:VEVENT
DTSTART;VALUE=DATE:20260520
DTEND;VALUE=DATE:20260521
DTSTAMP:20260422T181045
CREATED:20260326T095807Z
LAST-MODIFIED:20260326T095807Z
UID:4008-1779235200-1779321599@budiodrziv.rs
SUMMARY:Svetski dan metrologije
DESCRIPTION:Ističe vitalnu ulogu nauke o merenju u našem svakodnevnom životu. Od GPS navigacije do medicinskih doza i bezbednosti u građevinarstvu\, metrologija obezbeđuje doslednost i pouzdanost širom sveta. Metrički sistem utiče na kvalitet života i očuvanje životne sredine. \nPoruka: Mere za sva vremena\, za sve ljude – unapredi nauku za bolji svet. \npovezanost sa UN ciljevima održivog razvoja \nSDG 4 – Kvalitetno obrazovanje \nSDG 9 -Industrija\, inovacije i infrastruktura
URL:https://budiodrziv.rs/kalendar/svetski-dan-metrologije/
ATTACH;FMTTYPE=image/jpeg:https://budiodrziv.rs/wp-content/uploads/2026/03/pexels-photo-6636342-6636342.jpg
END:VEVENT
BEGIN:VEVENT
DTSTART;VALUE=DATE:20260521
DTEND;VALUE=DATE:20260522
DTSTAMP:20260422T181045
CREATED:20260227T193419Z
LAST-MODIFIED:20260227T193419Z
UID:3318-1779321600-1779407999@budiodrziv.rs
SUMMARY:Međunarodni dan čaja
DESCRIPTION:Podseća na značaj održive proizvodnje i potrošnje čaja. Čaj je više od napitka – on je izvor prihoda za preko 13 miliona ljudi širom sveta\, posebno malih proizvođača i ruralnih zajednica. Njegova proizvodnja direktno utiče na očuvanje zemljišta\, biodiverziteta i lokalnih ekosistema \nPoruka: Održiva proizvodnja čaja znači sigurnu budućnost za zajednice i ekosisteme. \npovezanost sa UN ciljevima održivog razvoja \nSDG 1 – Iskorenjivanje siromaštva: čaj obezbeđuje prihode za milione malih farmera. \nSDG 8 – Dostojanstven rad i ekonomski rast: sektor čaja stvara radna mesta i podstiče lokalni razvoj. \nSDG 12 – Održiva potrošnja i proizvodnja: promoviše odgovorno korišćenje resursa i smanjenje negativnog uticaja na životnu sredinu. \nSDG 15 – Život na kopnu: čaj se uzgaja u osetljivim ekosistemima\, pa njegova održiva proizvodnja doprinosi očuvanju zemljišta i biodiverziteta
URL:https://budiodrziv.rs/kalendar/medunarodni-dan-caja/
ATTACH;FMTTYPE=image/jpeg:https://budiodrziv.rs/wp-content/uploads/2026/02/g5431c56d1e86955738fb3258d1c1249a7d4a4f3ac32ab7b3c0ec3ad635d5bd9ae6dcd912b5982ca1f38bfa01108c408528d3dcf50d96be79cc47054b5cfc67a7_1280-7807229-e1772220848629.jpg
END:VEVENT
BEGIN:VEVENT
DTSTART;VALUE=DATE:20260522
DTEND;VALUE=DATE:20260523
DTSTAMP:20260422T181045
CREATED:20260201T140327Z
LAST-MODIFIED:20260201T140639Z
UID:2246-1779408000-1779494399@budiodrziv.rs
SUMMARY:Svetski dan biodiverziteta
DESCRIPTION:Slavi se raznolikost života na Zemlji i potreba za njegovom zaštitom. \nBiodiverzitet je osnova otpornosti prirode i ljudi. \nPoruka: Biodiverzitet je bogatstvo – čuvaj ga za budućnost. \nPovezanost sa UN ciljevima održivog razvoja \nSDG 15 Život na kopnu
URL:https://budiodrziv.rs/kalendar/svetski-dan-biodiverziteta/
ATTACH;FMTTYPE=image/jpeg:https://budiodrziv.rs/wp-content/uploads/2026/02/Lastin-rep-na-repici.jpg
END:VEVENT
BEGIN:VEVENT
DTSTART;VALUE=DATE:20260524
DTEND;VALUE=DATE:20260525
DTSTAMP:20260422T181045
CREATED:20260201T141722Z
LAST-MODIFIED:20260326T063710Z
UID:2250-1779580800-1779667199@budiodrziv.rs
SUMMARY:Evropski dan parkova
DESCRIPTION:Obeležava se značaj zaštićenih područja u očuvanju prirode i rekreaciji. \nParkovi povezuju ljude sa prirodom. \nPoruka: Parkovi su oaze održivosti – čuvaj ih i koristi odgovorno. \nPovezanost sa UN ciljevima održivog razvoja \nSDG 15 Život na kopnu \nSDG 11 Održivi gradovi i zajednice
URL:https://budiodrziv.rs/kalendar/evropski-dan-parkova/
ATTACH;FMTTYPE=image/jpeg:https://budiodrziv.rs/wp-content/uploads/2026/02/Bototanical-garden-park-e1775324194868.jpg
END:VEVENT
BEGIN:VEVENT
DTSTART;VALUE=DATE:20260530
DTEND;VALUE=DATE:20260531
DTSTAMP:20260422T181045
CREATED:20260201T142037Z
LAST-MODIFIED:20260223T000920Z
UID:2253-1780099200-1780185599@budiodrziv.rs
SUMMARY:Međunarodni dan krompira
DESCRIPTION:Slavi se krompir kao nutritivno važna i dostupna hrana. \nNjegova proizvodnja doprinosi sigurnosti ishrane i ruralnom razvoju. \nPoruka: Krompir hrani svet – podrži održivu poljoprivredu. \nPovezanost sa UN ciljevima održivog razvoja \nSDG 2 Svet bez gladi \nSDG 12 – Održiva potrošnja i proizvodnja
URL:https://budiodrziv.rs/kalendar/medunarodni-dan-krompira/
ATTACH;FMTTYPE=image/jpeg:https://budiodrziv.rs/wp-content/uploads/2026/02/g0edf1addd018b44dc83d1ae29155f147e75cb1fbc39cee2c57d8be5ae791253baa3b802d364ca339ad37c48570a21b59_640-3429379-e1771805352545.jpg
END:VEVENT
BEGIN:VEVENT
DTSTART;VALUE=DATE:20260531
DTEND;VALUE=DATE:20260601
DTSTAMP:20260422T181045
CREATED:20260201T143054Z
LAST-MODIFIED:20260223T000837Z
UID:2256-1780185600-1780271999@budiodrziv.rs
SUMMARY:Svetski dan bez duvana
DESCRIPTION:Podseća na štetne posledice upotrebe duvana po zdravlje i životnu sredinu. \nOdbacivanje duvana znači zdraviji život i čistiju planetu. \nPoruka: Bez duvana – zdravlje i održivost za sve. \nPovezanost sa UN ciljevima održivog razvoja \nSDG 3 Dobro zdravlje i blagostanje
URL:https://budiodrziv.rs/kalendar/svetski-dan-bez-duvana/
ATTACH;FMTTYPE=image/jpeg:https://budiodrziv.rs/wp-content/uploads/2026/02/ge5705bc927a4c3b06aa02756d9f6de96c7465fee313424a2f8f60fc017c882f46a3dd5925ebbfe2d8bc1c753be10b891_640-2383236-e1771805306717.jpg
END:VEVENT
BEGIN:VEVENT
DTSTART;VALUE=DATE:20260603
DTEND;VALUE=DATE:20260604
DTSTAMP:20260422T181045
CREATED:20260201T144157Z
LAST-MODIFIED:20260326T064459Z
UID:2262-1780444800-1780531199@budiodrziv.rs
SUMMARY:Svetski dan bicikla
DESCRIPTION:Slavi se bicikl kao održivo prevozno sredstvo koje smanjuje emisije i podstiče zdravlje. \nBiciklizam doprinosi čistijim gradovima. \nPoruka: Bicikl pokreće održivost – vozi za zdravlje i planetu. \nPovezanost sa UN ciljevima održivog razvoja \nSDG 11 Održivi gradovi i zajednice \nSDG 3 Dobro zdravlje i blagostanje \nSDG 13 Akcija za klimu
URL:https://budiodrziv.rs/kalendar/svetski-dan-bicikla/
ATTACH;FMTTYPE=image/jpeg:https://budiodrziv.rs/wp-content/uploads/2026/02/ge0eae8b19c76438a51a5087d822ee2ce4b96d3246e7e47593423503120a25f459eac11eb28c6c6057a29748a48301647_640-3731094-e1771805283391.jpg
END:VEVENT
BEGIN:VEVENT
DTSTART;VALUE=DATE:20260605
DTEND;VALUE=DATE:20260606
DTSTAMP:20260422T181045
CREATED:20260201T143719Z
LAST-MODIFIED:20260223T000721Z
UID:2259-1780617600-1780703999@budiodrziv.rs
SUMMARY:Svetski dan zaštite životne sredine
DESCRIPTION:Obeležava se globalna akcija za očuvanje prirode i borbu protiv klimatskih promena. \nSvako može doprineti održivosti. \nPoruka: Životna sredina je naš dom – štiti je svakim delom. \nPovezanost sa UN ciljevima održivog razvoja \nSDG 13 Akcija za klimu \nSDG 15 – Život na kopnu
URL:https://budiodrziv.rs/kalendar/svetski-dan-zastite-zivotne-sredine/
ATTACH;FMTTYPE=image/jpeg:https://budiodrziv.rs/wp-content/uploads/2026/02/g35c496a7d03ce57b3dce9207d3e3bc2e680ce88f69e95c6fd9d37efbd3ca54d7996cb2e14694810a4555220f844b116c_640-3441119-e1771805232550.jpg
END:VEVENT
BEGIN:VEVENT
DTSTART;VALUE=DATE:20260607
DTEND;VALUE=DATE:20260608
DTSTAMP:20260422T181045
CREATED:20260201T145506Z
LAST-MODIFIED:20260223T000654Z
UID:2265-1780790400-1780876799@budiodrziv.rs
SUMMARY:Svetski dan bezbednosti hrane
DESCRIPTION:Podseća na važnost sigurnih i zdravih prehrambenih sistema. \nBezbedna hrana znači zdravlje i poverenje potrošača. \nPoruka: Hrana mora biti sigurna za konzumaciju – na to svi imaju pravo. \nPovezanost sa UN ciljevima održivog razvoja \nSDG 2 Svet bez gladi \nSDG 3 Dobro zdravlje i blagostanje
URL:https://budiodrziv.rs/kalendar/svetski-dan-bezbednosti-hrane/
ATTACH;FMTTYPE=image/jpeg:https://budiodrziv.rs/wp-content/uploads/2026/02/pexels-photo-8540916-8540916-scaled-e1771805204604.jpg
END:VEVENT
BEGIN:VEVENT
DTSTART;VALUE=DATE:20260608
DTEND;VALUE=DATE:20260609
DTSTAMP:20260422T181045
CREATED:20260201T153737Z
LAST-MODIFIED:20260223T000631Z
UID:2268-1780876800-1780963199@budiodrziv.rs
SUMMARY:Svetski dan okeana
DESCRIPTION:Slavi se značaj okeana kao izvora života i klimatske ravnoteže. \nNjihova zaštita je ključna za budućnost planete. \nPoruka: Okeani su srce Zemlje – čuvaj ih za buduće generacije. \nPovezanost sa UN ciljevima održivog razvoja \nSDG 14 Život pod vodom
URL:https://budiodrziv.rs/kalendar/svetski-dan-okeana/
ATTACH;FMTTYPE=image/jpeg:https://budiodrziv.rs/wp-content/uploads/2026/02/pexels-photo-1618606-1618606-e1771805173401.jpg
END:VEVENT
BEGIN:VEVENT
DTSTART;VALUE=DATE:20260614
DTEND;VALUE=DATE:20260615
DTSTAMP:20260422T181045
CREATED:20260201T154524Z
LAST-MODIFIED:20260223T000543Z
UID:2274-1781395200-1781481599@budiodrziv.rs
SUMMARY:Svetski dan dobrovoljnih davalaca krvi
DESCRIPTION:Slavi se solidarnost i humanost kroz dobrovoljno davanje krvi. \nKrv spasava živote i jača zajednice. \nPoruka: Doniranjem krvi – daruješ život. \nPovezanost sa UN ciljevima održivog razvoja \nSDG 3 Dobro zdravlje i blagostanje
URL:https://budiodrziv.rs/kalendar/svetski-dan-dobrovoljnih-davalaca-krvi/
ATTACH;FMTTYPE=image/jpeg:https://budiodrziv.rs/wp-content/uploads/2026/02/gbbfb541c4c04208a7f5bfe357a7e5a60456aaddcefc0ccd3f574f5c788d9550a15403bccc321a08d6999f72b0db3a04d_640-4861456-e1771805135355.jpg
END:VEVENT
BEGIN:VEVENT
DTSTART;VALUE=DATE:20260615
DTEND;VALUE=DATE:20260616
DTSTAMP:20260422T181045
CREATED:20260201T154053Z
LAST-MODIFIED:20260223T000457Z
UID:2271-1781481600-1781567999@budiodrziv.rs
SUMMARY:Svetski dan vetra
DESCRIPTION:Obeležava se značaj energije vetra kao čistog i obnovljivog izvora. \nVetar pokreće održivu energetsku tranziciju. \nPoruka: Vetar nosi budućnost – investiraj u čistu energiju. \nPovezanost sa UN ciljevima održivog razvoja \nSDG 7 Dostupna i obnovljiva energija \nSDG 13 Akcija za klimu
URL:https://budiodrziv.rs/kalendar/svetski-dan-vetra/
ATTACH;FMTTYPE=image/jpeg:https://budiodrziv.rs/wp-content/uploads/2026/02/gb13ba73d61ff514becf52936211f1d475e9b9e1a415c9a723ca1ed9d9a499566057353d0e260f0c169bdf6b6ef5a9ebc_640-5239642-e1771805087157.jpg
END:VEVENT
BEGIN:VEVENT
DTSTART;VALUE=DATE:20260618
DTEND;VALUE=DATE:20260619
DTSTAMP:20260422T181045
CREATED:20260201T155040Z
LAST-MODIFIED:20260223T000427Z
UID:2277-1781740800-1781827199@budiodrziv.rs
SUMMARY:Svetski dan održive gastronomije
DESCRIPTION:Obeležava se značaj održivih prehrambenih praksi i lokalnih namirnica. \nOdrživa gastronomija povezuje kulturu\, zdravlje i prirodu. \nPoruka: y. \nPovezanost sa UN ciljevima održivog razvoja \nSDG 12 Odgovorna potrošnja i proizvodnja \nSDG 2 Svet bez gladi
URL:https://budiodrziv.rs/kalendar/svetski-dan-odrzive-gastronomije/
ATTACH;FMTTYPE=image/jpeg:https://budiodrziv.rs/wp-content/uploads/2026/02/pexels-photo-33111633-33111633-e1771805060684.jpg
END:VEVENT
BEGIN:VEVENT
DTSTART;VALUE=DATE:20260621
DTEND;VALUE=DATE:20260622
DTSTAMP:20260422T181045
CREATED:20260405T144400Z
LAST-MODIFIED:20260405T144400Z
UID:4256-1782000000-1782086399@budiodrziv.rs
SUMMARY:Međunarodni dan joge
DESCRIPTION:Važnost ravnoteže između tela\, uma i prirode. Joga nije samo fizička aktivnost\, već filozofija koja promoviše zdravlje\, unutrašnji mir i povezanost sa okolinom. Iz ugla održivosti\, ona nas uči da je briga o sopstvenom zdravlju nerazdvojiva od brige o planeti. \n„Harmonija sa sobom znači harmonija sa prirodom – održivost počinje iznutra.“ \nPovezanost sa UN ciljevima održivog razvoja:\n• SDG 3 – Zdravlje i blagostanje: joga doprinosi fizičkom i mentalnom zdravlju\, smanjuje stres i podstiče zdrav način života.\n• SDG 12 – Održiva potrošnja i proizvodnja: joga promoviše jednostavan\, svestan način života\, sa manjim ekološkim otiskom.\n• SDG 13 – Klimatska akcija: kroz filozofiju nenasilja i poštovanja prirode\, joga inspiriše pojedince da donose odluke koje smanjuju negativan uticaj na klimu.
URL:https://budiodrziv.rs/kalendar/medunarodni-dan-joge/
ATTACH;FMTTYPE=image/jpeg:https://budiodrziv.rs/wp-content/uploads/2026/04/pexels-photo-9004274-9004274.jpg
END:VEVENT
BEGIN:VEVENT
DTSTART;VALUE=DATE:20260629
DTEND;VALUE=DATE:20260630
DTSTAMP:20260422T181045
CREATED:20260201T161224Z
LAST-MODIFIED:20260225T083716Z
UID:2287-1782691200-1782777599@budiodrziv.rs
SUMMARY:Dan Dunava
DESCRIPTION:Slavi se najveća evropska reka i njen značaj za prirodu\, kulturu i ekonomiju. \nOčuvanje Dunava znači očuvanje života miliona ljudi i biodiverziteta. \nPoruka: Dunav povezuje narode – čuvaj ga za budućnost. \nPovezanost sa UN ciljevima održivog razvoja \nSDG 6 Čista voda i sanitarni uslovi \nSDG 14 Život pod vodom \nSDG 15 Život na kopnu
URL:https://budiodrziv.rs/kalendar/dan-dunava-2/
ATTACH;FMTTYPE=image/jpeg:https://budiodrziv.rs/wp-content/uploads/2026/02/Dunav-reka-1-e1772008612614.jpg
END:VEVENT
BEGIN:VEVENT
DTSTART;VALUE=DATE:20260703
DTEND;VALUE=DATE:20260704
DTSTAMP:20260422T181045
CREATED:20260201T162305Z
LAST-MODIFIED:20260201T162305Z
UID:2289-1783036800-1783123199@budiodrziv.rs
SUMMARY:Međunarodni dan bez plastičnih kesa
DESCRIPTION:Podseća na štetne posledice jednokratne plastike po prirodu i zdravlje. \nPromoviše alternativna rešenja i cirkularnu ekonomiju. \nPoruka: Recimo ne plastici – biraj održive alternative. \nPovezanost sa UN ciljevima održivog razvoja \nSDG 12 Odgovorna potrošnja i proizvodnja \nSDG 14 Život pod vodom
URL:https://budiodrziv.rs/kalendar/medunarodni-dan-bez-plasticnih-kesa/
ATTACH;FMTTYPE=image/jpeg:https://budiodrziv.rs/wp-content/uploads/2026/02/pexels-photo-7055079-7055079.jpg
END:VEVENT
BEGIN:VEVENT
DTSTART;VALUE=DATE:20260711
DTEND;VALUE=DATE:20260712
DTSTAMP:20260422T181045
CREATED:20260201T163526Z
LAST-MODIFIED:20260223T000302Z
UID:2292-1783728000-1783814399@budiodrziv.rs
SUMMARY:Dan stanovništva
DESCRIPTION:Obeležava se važnost planiranja populacije\, zdravlja i obrazovanja. \nOdrživi razvoj zahteva ravnotežu između ljudskih potreba i resursa. \nPoruka: Ljudi su snaga – živi odgovorno za održivu budućnost. \nPovezanost sa UN ciljevima održivog razvoja \nSDG 3 Dobro zdravlje i blagostanje \nSDG 4 Kvalitetno obrazovanje
URL:https://budiodrziv.rs/kalendar/dan-stanovnistva/
ATTACH;FMTTYPE=image/jpeg:https://budiodrziv.rs/wp-content/uploads/2026/02/g0738ae6beac795191ff23151dfb19301fa7b919b93506a7cc9508bac1c3c49278f406098b10973ac452d21f4ac96e2f2_640-3108154-e1771804967457.jpg
END:VEVENT
BEGIN:VEVENT
DTSTART;VALUE=DATE:20260715
DTEND;VALUE=DATE:20260716
DTSTAMP:20260422T181045
CREATED:20260201T165110Z
LAST-MODIFIED:20260201T165110Z
UID:2295-1784073600-1784159999@budiodrziv.rs
SUMMARY:Svetski dan veština mladih
DESCRIPTION:Slavi se osnaživanje mladih kroz obrazovanje i razvoj veština. \nMladi su ključni za inovacije i održivi razvoj. \nPoruka: Veštine mladih grade budućnost – investiraj u njihovo znanje. \nPovezanost sa UN ciljevima održivog razvoja \nSDG 4 Kvalitetno obrazovanje \nSDG 8 Dostojanstven rad i ekonomski rast
URL:https://budiodrziv.rs/kalendar/svetski-dan-vestina-mladih/
ATTACH;FMTTYPE=image/jpeg:https://budiodrziv.rs/wp-content/uploads/2026/02/pexels-photo-7743253-7743253.jpg
END:VEVENT
BEGIN:VEVENT
DTSTART;VALUE=DATE:20260726
DTEND;VALUE=DATE:20260727
DTSTAMP:20260422T181045
CREATED:20260201T165656Z
LAST-MODIFIED:20260223T000217Z
UID:2298-1785024000-1785110399@budiodrziv.rs
SUMMARY:Međunarodni dan očuvanja mangrovog ekosistema
DESCRIPTION:Podseća na važnost mangrova u zaštiti obala i biodiverziteta. \nNjihova očuvanost doprinosi klimatskoj otpornosti. \nPoruka: Mangrove štite obale – čuvaj ih za život. \nPovezanost sa UN ciljevima održivog razvoja \nSDG 14 Život pod vodom \nSDG 13 Akcija za klimu
URL:https://budiodrziv.rs/kalendar/medunarodni-dan-ocuvanja-mangrovog-ekosistema/
ATTACH;FMTTYPE=image/jpeg:https://budiodrziv.rs/wp-content/uploads/2026/02/Mangrove-Forest-Coast-e1771804928482.jpg
END:VEVENT
BEGIN:VEVENT
DTSTART;VALUE=DATE:20260728
DTEND;VALUE=DATE:20260729
DTSTAMP:20260422T181045
CREATED:20260201T170532Z
LAST-MODIFIED:20260223T000133Z
UID:2301-1785196800-1785283199@budiodrziv.rs
SUMMARY:Svetski dan zaštite prirode
DESCRIPTION:Obeležava se značaj očuvanja prirodnih resursa i ekosistema. \nPriroda je temelj zdravlja i održivosti. \nPoruka: Priroda je naš kapital – investiraj u njeno očuvanje. \nPovezanost sa UN ciljevima održivog razvoja \nSDG 15 Život na kopnu
URL:https://budiodrziv.rs/kalendar/svetski-dan-zastite-prirode/
ATTACH;FMTTYPE=image/jpeg:https://budiodrziv.rs/wp-content/uploads/2026/02/obala-mora-Sandra-Pejovic-e1771804882545.jpg
END:VEVENT
BEGIN:VEVENT
DTSTART;VALUE=DATE:20260730
DTEND;VALUE=DATE:20260731
DTSTAMP:20260422T181045
CREATED:20260201T171425Z
LAST-MODIFIED:20260222T235956Z
UID:2306-1785369600-1785455999@budiodrziv.rs
SUMMARY:Svetski dan prijateljstva
DESCRIPTION:Slavi se prijateljstvo kao snaga za mir i saradnju među ljudima. \nSolidarnost i poverenje grade održivo društvo. \nPoruka: Prijateljstvo spaja svet – neguj ga za mirnu budućnost. \nPovezanost sa UN ciljevima održivog razvoja \nSDG 16 Mir\, pravda i snažne institucije
URL:https://budiodrziv.rs/kalendar/svetski-dan-prijateljstva/
ATTACH;FMTTYPE=image/png:https://budiodrziv.rs/wp-content/uploads/2026/02/volonteri-prijateljsko-srce-e1771804789346.png
END:VEVENT
BEGIN:VEVENT
DTSTART;VALUE=DATE:20260812
DTEND;VALUE=DATE:20260813
DTSTAMP:20260422T181045
CREATED:20260201T172839Z
LAST-MODIFIED:20260201T172839Z
UID:2309-1786492800-1786579199@budiodrziv.rs
SUMMARY:Međunarodni dan mladih
DESCRIPTION:Obeležava se uloga mladih u društvenim promenama i održivom razvoju. Njihova energija i ideje oblikuju budućnost. \nPoruka: Mladi su glas budućnosti – osnaži ih da menjaju svet. \nPovezanost sa UN ciljevima održivog razvoja \nSDG 4 Kvalitetno obrazovanje \nSDG 8 Dostojanstven rad i ekonomski rast
URL:https://budiodrziv.rs/kalendar/medunarodni-dan-mladih/
ATTACH;FMTTYPE=image/jpeg:https://budiodrziv.rs/wp-content/uploads/2026/02/pexels-photo-20136323-20136323.jpg
END:VEVENT
BEGIN:VEVENT
DTSTART;VALUE=DATE:20260819
DTEND;VALUE=DATE:20260820
DTSTAMP:20260422T181045
CREATED:20260201T175130Z
LAST-MODIFIED:20260202T100547Z
UID:2315-1787097600-1787183999@budiodrziv.rs
SUMMARY:Svetski humanitarni dan
DESCRIPTION:Obeležava se solidarnost i pomoć ljudima pogođenim krizama. \nHumanitarni rad spasava živote i jača otpornost zajednica. \nPoruka: Humanost je univerzalna vrednost – pomogni gde je najpotrebnije. \nPovezanost sa UN ciljevima održivog razvoja \nSDG 1 Svet bez siromaštva \nSDG 16 Mir\, pravda i snažne institucije
URL:https://budiodrziv.rs/kalendar/svetski-humanitarni-dan/
ATTACH;FMTTYPE=image/jpeg:https://budiodrziv.rs/wp-content/uploads/2026/02/pexels-photo-7156170-7156170.jpg
END:VEVENT
BEGIN:VEVENT
DTSTART;VALUE=DATE:20260819
DTEND;VALUE=DATE:20260820
DTSTAMP:20260422T181045
CREATED:20260201T173813Z
LAST-MODIFIED:20260222T235646Z
UID:2312-1787097600-1787183999@budiodrziv.rs
SUMMARY:Svetski dan fotografije
DESCRIPTION:Slavi se umetnost fotografije kao sredstvo izražavanja i dokumentovanja sveta. \nFotografija inspiriše promene i podseća na lepotu prirode. \nPoruka: Fotografija čuva trenutke – koristi je za inspiraciju održivosti. \nPovezanost sa UN ciljevima održivog razvoja \nSDG 11 Održivi gradovi i zajednice
URL:https://budiodrziv.rs/kalendar/svetski-dan-fotografije/
ATTACH;FMTTYPE=image/jpeg:https://budiodrziv.rs/wp-content/uploads/2026/02/pexels-photo-225157-225157-e1771804595650.jpg
END:VEVENT
END:VCALENDAR