BEGIN:VCALENDAR
VERSION:2.0
PRODID:-// - ECPv6.15.20//NONSGML v1.0//EN
CALSCALE:GREGORIAN
METHOD:PUBLISH
X-ORIGINAL-URL:https://budiodrziv.rs
X-WR-CALDESC:Events for 
REFRESH-INTERVAL;VALUE=DURATION:PT1H
X-Robots-Tag:noindex
X-PUBLISHED-TTL:PT1H
BEGIN:VTIMEZONE
TZID:Europe/Belgrade
BEGIN:DAYLIGHT
TZOFFSETFROM:+0100
TZOFFSETTO:+0200
TZNAME:CEST
DTSTART:20250330T010000
END:DAYLIGHT
BEGIN:STANDARD
TZOFFSETFROM:+0200
TZOFFSETTO:+0100
TZNAME:CET
DTSTART:20251026T010000
END:STANDARD
BEGIN:DAYLIGHT
TZOFFSETFROM:+0100
TZOFFSETTO:+0200
TZNAME:CEST
DTSTART:20260329T010000
END:DAYLIGHT
BEGIN:STANDARD
TZOFFSETFROM:+0200
TZOFFSETTO:+0100
TZNAME:CET
DTSTART:20261025T010000
END:STANDARD
BEGIN:DAYLIGHT
TZOFFSETFROM:+0100
TZOFFSETTO:+0200
TZNAME:CEST
DTSTART:20270328T010000
END:DAYLIGHT
BEGIN:STANDARD
TZOFFSETFROM:+0200
TZOFFSETTO:+0100
TZNAME:CET
DTSTART:20271031T010000
END:STANDARD
END:VTIMEZONE
BEGIN:VEVENT
DTSTART;VALUE=DATE:20260318
DTEND;VALUE=DATE:20260319
DTSTAMP:20260425T122710
CREATED:20260130T171542Z
LAST-MODIFIED:20260319T121735Z
UID:2004-1773792000-1773878399@budiodrziv.rs
SUMMARY:Svetski dan reciklaže
DESCRIPTION:Ovaj dan promoviše reciklažu kao osnovni korak ka cirkularnoj ekonomiji. \nRecikliranjem smanjujemo otpad i štitimo prirodne resurse. \nPoruka: Recikliraj danas – stvaraš održivu budućnost. \nPovezanost sa UN ciljevima održivog razvoja \nSDG 12 – Održiva potrošnja i proizvodnja \nhttps://youtu.be/LwxE3T9QY9I
URL:https://budiodrziv.rs/kalendar/svetski-dan-reciklaze/
ATTACH;FMTTYPE=image/jpeg:https://budiodrziv.rs/wp-content/uploads/2026/01/pexels-photo-6995365-6995365.jpg
END:VEVENT
BEGIN:VEVENT
DTSTART;VALUE=DATE:20260314
DTEND;VALUE=DATE:20260315
DTSTAMP:20260425T122710
CREATED:20260130T164233Z
LAST-MODIFIED:20260130T164233Z
UID:2001-1773446400-1773532799@budiodrziv.rs
SUMMARY:Međunarodni dan akcije za reke
DESCRIPTION:Vreme kada se ujedinjujemo  u solidarnosti sa zajednicama koje  štite i brane reke. \nNjihova zaštita je ključna za zdravlje ljudi i prirode. \nPoruka: čuvaj ih čistim i slobodnim\, jer održive reke znače zdravije zajednice i sigurniju budućnost za sve \nPovezanost sa UN ciljevima održivog razvoja \nSDG 6 – Čista voda i sanitarni uslovi \nSDG 15 – Život na kopnu
URL:https://budiodrziv.rs/kalendar/medunarodni-dan-akcije-za-reke/
ATTACH;FMTTYPE=image/jpeg:https://budiodrziv.rs/wp-content/uploads/2026/01/Tara-2_resize-e1776934627817.jpg
END:VEVENT
BEGIN:VEVENT
DTSTART;VALUE=DATE:20260308
DTEND;VALUE=DATE:20260309
DTSTAMP:20260425T122710
CREATED:20260130T161250Z
LAST-MODIFIED:20260306T151311Z
UID:1998-1772928000-1773014399@budiodrziv.rs
SUMMARY:Međunarodni dan žena
DESCRIPTION:Slavi se borba za ravnopravnost i doprinos žena u svim sferama života. \nOdrživi razvoj je moguć samo uz jednakost i osnaživanje žena. \nPoruka: Ravnopravnost je snaga – osnaži žene\, osnaži društvo. \nPovezanost sa UN ciljevima održivog razvoja \nSDG 5 – Rodna ravnopravnost \nSDG 10 – Smanjenje nejednakosti
URL:https://budiodrziv.rs/kalendar/medunarodni-dan-zena/
ATTACH;FMTTYPE=image/jpeg:https://budiodrziv.rs/wp-content/uploads/2026/01/pexels-photo-4833957-4833957.jpg
END:VEVENT
BEGIN:VEVENT
DTSTART;VALUE=DATE:20260305
DTEND;VALUE=DATE:20260306
DTSTAMP:20260425T122710
CREATED:20260130T155907Z
LAST-MODIFIED:20260130T160731Z
UID:1995-1772668800-1772755199@budiodrziv.rs
SUMMARY:Svetski dan energetske efikasnosti
DESCRIPTION:Obeležava se značaj racionalne upotrebe energije i smanjenja potrošnje. \nEnergetska efikasnost štedi resurse i smanjuje emisije štetnih gasova. \nPoruka: Efikasna energija znači održiva budućnost – koristi je pametno. \nPovezanost sa UN ciljevima održivog razvoja \nSDG 7 – Dostupna i obnovljiva energija \nSDG 13 – Akcija za klimu
URL:https://budiodrziv.rs/kalendar/svetski-dan-energetske-efikasnosti/
ATTACH;FMTTYPE=image/jpeg:https://budiodrziv.rs/wp-content/uploads/2026/01/gea511422c64ba41cfbd0b0a24e2dbb21f6aae83bd833afc17fef1f60f378c64df9ba85055d55cfb707f1b4d8ac0ca6bcdf033960053081b691ef546d36a674c3_1280-2632075-e1772729110591.jpg
END:VEVENT
BEGIN:VEVENT
DTSTART;VALUE=DATE:20260303
DTEND;VALUE=DATE:20260304
DTSTAMP:20260425T122710
CREATED:20260130T155147Z
LAST-MODIFIED:20260130T155147Z
UID:1991-1772496000-1772582399@budiodrziv.rs
SUMMARY:Svetski dan divljih vrsta
DESCRIPTION:Ovaj dan slavi bogatstvo biodiverziteta i podseća na važnost očuvanja ugroženih vrsta. \nDivlje vrste su ključne za ravnotežu ekosistema i našu budućnost. \nPoruka: Čuvaj divlje vrste – one čuvaju planetu. \nPovezanost sa UN ciljevima održivog razvoja \nSDG 15 – Život na kopnu
URL:https://budiodrziv.rs/kalendar/svetski-dan-divljih-vrsta/
ATTACH;FMTTYPE=image/jpeg:https://budiodrziv.rs/wp-content/uploads/2026/01/Zima-sove-Kostin-divlja_srbija-e1776934657224.jpg
END:VEVENT
BEGIN:VEVENT
DTSTART;TZID=Europe/Belgrade:20260224T000000
DTEND;TZID=Europe/Belgrade:20260227T233000
DTSTAMP:20260425T122710
CREATED:20260130T150829Z
LAST-MODIFIED:20260202T101353Z
UID:1986-1771891200-1772235000@budiodrziv.rs
SUMMARY:Svetski dani održive energije
DESCRIPTION:Ovi dani promovišu inovacije i razmenu znanja o obnovljivim izvorima energije. \nFokus je na rešenjima koja smanjuju emisije i jačaju energetsku efikasnost. \nPoruka: Održiva energija pokreće budućnost – investiraj u čistu snagu. \nPovezanost sa UN ciljevima održivog razvoja \nSDG 7 – Dostupna i obnovljiva energija
URL:https://budiodrziv.rs/kalendar/svetski-dani-odrzive-energije/
ATTACH;FMTTYPE=image/jpeg:https://budiodrziv.rs/wp-content/uploads/2026/01/renewable-energy-1600x900px-e1776934678442.jpg
END:VEVENT
BEGIN:VEVENT
DTSTART;VALUE=DATE:20260221
DTEND;VALUE=DATE:20260222
DTSTAMP:20260425T122710
CREATED:20260130T145138Z
LAST-MODIFIED:20260130T145138Z
UID:1983-1771632000-1771718399@budiodrziv.rs
SUMMARY:Međunarodni dan zaštite maternjeg jezika
DESCRIPTION:Slavi jezičku raznolikost i pravo na obrazovanje na maternjem jeziku. \nOčuvanje jezika čuva kulturni identitet i doprinosi inkluzivnom društvu. \nPoruka: Jezik je koren identiteta – neguj ga da bi svet bio bogatiji. \nPovezanost sa UN ciljevima održivog razvoja \nSDG 4 – Kvalitetno obrazovanje \nSDG 10 – Smanjenje nejednakosti
URL:https://budiodrziv.rs/kalendar/medunarodni-dan-zastite-maternjeg-jezika/
ATTACH;FMTTYPE=image/jpeg:https://budiodrziv.rs/wp-content/uploads/2026/01/pexels-photo-16917373-16917373-e1776934701810.jpg
END:VEVENT
BEGIN:VEVENT
DTSTART;VALUE=DATE:20260220
DTEND;VALUE=DATE:20260221
DTSTAMP:20260425T122710
CREATED:20260130T144346Z
LAST-MODIFIED:20260130T144346Z
UID:1980-1771545600-1771631999@budiodrziv.rs
SUMMARY:Svetski dan socijalne pravde
DESCRIPTION:Obeležava se zalaganje za jednakost\, ljudska prava i pravedne društvene sisteme. \nSocijalna pravda je temelj održivog razvoja i mira. \nPoruka: Bez pravde nema održivosti – gradimo društvo jednakih šansi. \nPovezanost sa UN ciljevima održivog razvoja \nSDG 10 – Smanjenje nejednakosti \nSDG 16 – Mir\, pravda i snažne institucije
URL:https://budiodrziv.rs/kalendar/svetski-dan-socijalne-pravde/
ATTACH;FMTTYPE=image/png:https://budiodrziv.rs/wp-content/uploads/2026/01/social-justice-e1776934802870.png
END:VEVENT
BEGIN:VEVENT
DTSTART;VALUE=DATE:20260217
DTEND;VALUE=DATE:20260218
DTSTAMP:20260425T122710
CREATED:20260130T141846Z
LAST-MODIFIED:20260130T141846Z
UID:1974-1771286400-1771372799@budiodrziv.rs
SUMMARY:Globalni dan otpornosti turizma
DESCRIPTION:Ističe važnost održivog i otpornog turizma u suočavanju sa krizama. \nPromoviše putovanja koja čuvaju prirodu i lokalne zajednice. \nPoruka: Putuj odgovorno – turizam može biti snaga održivosti. \nPovezanost sa UN ciljevima održivog razvoja \nSDG 8 – Dostojanstven rad i ekonomski rast \nSDG 12 – Odgovorna potrošnja i proizvodnja
URL:https://budiodrziv.rs/kalendar/globalni-dan-otpornosti-turizma/
ATTACH;FMTTYPE=image/jpeg:https://budiodrziv.rs/wp-content/uploads/2026/01/Nature_tourism-scaled-e1776934756268.jpg
END:VEVENT
BEGIN:VEVENT
DTSTART;VALUE=DATE:20260213
DTEND;VALUE=DATE:20260214
DTSTAMP:20260425T122710
CREATED:20260130T140205Z
LAST-MODIFIED:20260130T140205Z
UID:1971-1770940800-1771027199@budiodrziv.rs
SUMMARY:Svetski dan radija
DESCRIPTION:Radio je medij koji povezuje ljude i širi znanje širom sveta. \nNjegova dostupnost čini ga moćnim alatom za obrazovanje i održivost. \nPoruka: Radio spaja glasove – koristi ga za širenje svesti o održivosti. \nPovezanost sa UN ciljevima održivog razvoja \nSDG 16 – Mir\, pravda i snažne institucije \nSDG 4 – Kvalitetno obrazovanje
URL:https://budiodrziv.rs/kalendar/svetski-dan-radija/
ATTACH;FMTTYPE=image/jpeg:https://budiodrziv.rs/wp-content/uploads/2026/01/microphone-outdoors-e1776934774848.jpg
END:VEVENT
BEGIN:VEVENT
DTSTART;VALUE=DATE:20260211
DTEND;VALUE=DATE:20260212
DTSTAMP:20260425T122710
CREATED:20260130T135312Z
LAST-MODIFIED:20260130T135312Z
UID:1967-1770768000-1770854399@budiodrziv.rs
SUMMARY:Svetski dan žena i devojaka u nauci
DESCRIPTION:Slavi doprinos žena u naučnim istraživanjima i podstiče ravnopravnost u obrazovanju i karijeri. \nNjihova perspektiva obogaćuje inovacije i održiva rešenja. \nPoruka: Nauka je jača kada je inkluzivna – podrži žene u istraživanju. \nPovezanost sa UN ciljevima održivog razvoja \nSDG 5 – Rodna ravnopravnost \nSDG 4 – Kvalitetno obrazovanje \nSDG 8 – Dostojanstven rad i ekonomski rast
URL:https://budiodrziv.rs/kalendar/svetski-dan-zena-i-devojaka-u-nauci/
ATTACH;FMTTYPE=image/jpeg:https://budiodrziv.rs/wp-content/uploads/2026/01/pexels-photo-3735715-3735715.jpg
END:VEVENT
BEGIN:VEVENT
DTSTART;VALUE=DATE:20260210
DTEND;VALUE=DATE:20260211
DTSTAMP:20260425T122710
CREATED:20260130T134159Z
LAST-MODIFIED:20260130T134159Z
UID:1964-1770681600-1770767999@budiodrziv.rs
SUMMARY:Svetski dan mahunarki
DESCRIPTION:Obeležava se značaj mahunarki kao nutritivno bogate i održive hrane. \nOne doprinose zdravlju ljudi i očuvanju zemljišta kroz prirodno obogaćivanje azotom. \nPoruka: Mahunarke hrane planetu i ljude – biraj održivo na svom tanjiru. \nPovezanost sa UN ciljevima održivog razvoja \nSDG 2 – Svet bez gladi \nSDG 3 – Dobro zdravlje i blagostanje \nSDG 12 – Održiva potrošnja i proizvodnja
URL:https://budiodrziv.rs/kalendar/svetski-dan-mahunarki/
ATTACH;FMTTYPE=image/jpeg:https://budiodrziv.rs/wp-content/uploads/2026/01/Pulses_mahunarke-e1776934844607.jpg
END:VEVENT
BEGIN:VEVENT
DTSTART;VALUE=DATE:20260202
DTEND;VALUE=DATE:20260203
DTSTAMP:20260425T122710
CREATED:20260130T130137Z
LAST-MODIFIED:20260205T170422Z
UID:1961-1769990400-1770076799@budiodrziv.rs
SUMMARY:Svetski dan močvarnih područja
DESCRIPTION:Ovaj dan podseća na važnost močvara kao staništa i prirodnih filtera za vodu. \nNjihova zaštita čuva biodiverzitet i doprinosi klimatskoj otpornosti. \nPoruka: Močvare su važan ekosistem – čuvaj ih. \nKopnena područja koja su zasićena ili poplavljena vodom\, bilo trajno ili sezonski. \n\nMočvare\, jezera\, reke\, poplavne ravnice\, tresetišta i močvare\nSlane močvare\, mangrove\, lagune i koralni grebeni\nRibnjaci\, pirinčana polja\n\nPovezanost sa UN ciljevima održivog razvoja \nSDG 15 – Život na kopnu \nSDG 6 – Čista voda i sanitarni uslovi
URL:https://budiodrziv.rs/kalendar/svetski-dan-mocvarnih-podrucja/
ATTACH;FMTTYPE=image/jpeg:https://budiodrziv.rs/wp-content/uploads/2026/01/Carska-bara-e1776934864559.jpg
END:VEVENT
BEGIN:VEVENT
DTSTART;VALUE=DATE:20260128
DTEND;VALUE=DATE:20260129
DTSTAMP:20260425T122710
CREATED:20260130T123857Z
LAST-MODIFIED:20260130T123857Z
UID:1958-1769558400-1769644799@budiodrziv.rs
SUMMARY:Međunarodni dan smanjenja emisije ugljen-dioksida
DESCRIPTION:Podstiče globalnu akciju za smanjenje CO₂ emisija i borbu protiv klimatskih promena. \nSvaka odluka – od načina transporta do izbora proizvoda – ima uticaj na naš ugljenični/karbonski otisak. \nPoruka: Smanji emisije CO₂  – diši lakše\, poveži se sa prirodom \nPovezanost sa UN ciljevima održivog razvoja \nSDG 13- Akcija za klimu \nSDG 12 – Odgovorna potrošnja i proizvodnja
URL:https://budiodrziv.rs/kalendar/medunarodni-dan-smanjenja-emisije-ugljen-dioksida/
ATTACH;FMTTYPE=image/jpeg:https://budiodrziv.rs/wp-content/uploads/2026/01/g262fa363ced2711e4cb07817fcda82e56dac5a8aaa64cdff69a0bb0f3c3a18b4a84316e55bddcc5ba813c45a738f7a33e50972c8fde1b048fed3c502e4aadb6e_1280-3139230-e1776934881104.jpg
END:VEVENT
BEGIN:VEVENT
DTSTART;VALUE=DATE:20260126
DTEND;VALUE=DATE:20260127
DTSTAMP:20260425T122710
CREATED:20260130T112540Z
LAST-MODIFIED:20260130T113644Z
UID:1942-1769385600-1769471999@budiodrziv.rs
SUMMARY:Međunarodni dan čiste energije
DESCRIPTION:Promoviše prelazak na obnovljive izvore energije i energetsku efikasnost kao ključne korake ka klimatskoj stabilnosti. \nČista energija smanjuje zagađenje i doprinosi zdravijem životu za sve. \nPoruka: Energija budućnosti je čista – biraj održivo. \nPovezanost sa UN ciljevima održivog razvoja \nSDG 7 – Dostupna i obnovljiva energija \nSDG 13 – Akcija za klimu
URL:https://budiodrziv.rs/kalendar/medunarodni-dan-ciste-energije/
END:VEVENT
BEGIN:VEVENT
DTSTART;VALUE=DATE:20260126
DTEND;VALUE=DATE:20260127
DTSTAMP:20260425T122710
CREATED:20260130T111627Z
LAST-MODIFIED:20260331T092443Z
UID:1929-1769385600-1769471999@budiodrziv.rs
SUMMARY:Svetski dan obrazovanja o zaštiti životne sredine
DESCRIPTION:Ovaj dan podseća na značaj ekološke pismenosti i uloge obrazovanja u očuvanju planete. \nEdukacija o životnoj sredini osnažuje pojedince da donose odgovorne odluke i štite prirodu. \nPoruka: Ekološka svest počinje učenjem – obrazuj se\, inspiriši\, deluj. \nPovezanost sa UN ciljevima održivog razvoja \nSDG 4 – Kvalitetno obrazovanje \nSDG 13 – Akcija za klimu
URL:https://budiodrziv.rs/kalendar/svetski-dan-obrazovanja-o-zastiti-zivotne-sredine/
END:VEVENT
BEGIN:VEVENT
DTSTART;VALUE=DATE:20260124
DTEND;VALUE=DATE:20260125
DTSTAMP:20260425T122710
CREATED:20260130T113216Z
LAST-MODIFIED:20260331T092235Z
UID:1945-1769212800-1769299199@budiodrziv.rs
SUMMARY:Međunarodni dan obrazovanja
DESCRIPTION:Obeležava se važnost obrazovanja kao temelja za mir\, razvoj i održivo društvo. \nUlaganje u inkluzivno i kvalitetno obrazovanje znači graditi svet u kojem svi imaju šansu da doprinesu promenama. \nPoruka: Znanje menja svet – učimo da bismo ga učinili održivim. \nPovezanost sa UN ciljevima održivog razvoja \nSDG 4 – Kvalitetno obrazovanje
URL:https://budiodrziv.rs/kalendar/medunarodni-dan-obrazovanja/
END:VEVENT
END:VCALENDAR