BEGIN:VCALENDAR
VERSION:2.0
PRODID:-// - ECPv6.15.20//NONSGML v1.0//EN
CALSCALE:GREGORIAN
METHOD:PUBLISH
X-ORIGINAL-URL:https://budiodrziv.rs
X-WR-CALDESC:Events for 
REFRESH-INTERVAL;VALUE=DURATION:PT1H
X-Robots-Tag:noindex
X-PUBLISHED-TTL:PT1H
BEGIN:VTIMEZONE
TZID:Europe/Belgrade
BEGIN:DAYLIGHT
TZOFFSETFROM:+0100
TZOFFSETTO:+0200
TZNAME:CEST
DTSTART:20250330T010000
END:DAYLIGHT
BEGIN:STANDARD
TZOFFSETFROM:+0200
TZOFFSETTO:+0100
TZNAME:CET
DTSTART:20251026T010000
END:STANDARD
BEGIN:DAYLIGHT
TZOFFSETFROM:+0100
TZOFFSETTO:+0200
TZNAME:CEST
DTSTART:20260329T010000
END:DAYLIGHT
BEGIN:STANDARD
TZOFFSETFROM:+0200
TZOFFSETTO:+0100
TZNAME:CET
DTSTART:20261025T010000
END:STANDARD
BEGIN:DAYLIGHT
TZOFFSETFROM:+0100
TZOFFSETTO:+0200
TZNAME:CEST
DTSTART:20270328T010000
END:DAYLIGHT
BEGIN:STANDARD
TZOFFSETFROM:+0200
TZOFFSETTO:+0100
TZNAME:CET
DTSTART:20271031T010000
END:STANDARD
END:VTIMEZONE
BEGIN:VEVENT
DTSTART;VALUE=DATE:20260929
DTEND;VALUE=DATE:20260930
DTSTAMP:20260425T143414
CREATED:20260201T203634Z
LAST-MODIFIED:20260222T234901Z
UID:2348-1790640000-1790726399@budiodrziv.rs
SUMMARY:Svetski dan srca
DESCRIPTION:Obeležava se važnost prevencije kardiovaskularnih bolesti kroz zdravu ishranu\, fizičku aktivnost i brigu o zdravlju. Srce je simbol života i održivosti ljudskog blagostanja. \nPoruka: Čuvaj svoje srce – zdravlje je temelj održive budućnosti. \nPovezanost sa UN ciljevima održivog razvoja \nSDG 3 Dobro zdravlje i blagostanje
URL:https://budiodrziv.rs/kalendar/svetski-dan-srca/
ATTACH;FMTTYPE=image/webp:https://budiodrziv.rs/wp-content/uploads/2026/02/Sustainability-is-on-everyones-mind--e1771804094398.webp
END:VEVENT
BEGIN:VEVENT
DTSTART;VALUE=DATE:20261001
DTEND;VALUE=DATE:20261002
DTSTAMP:20260425T143414
CREATED:20260201T204518Z
LAST-MODIFIED:20260326T065408Z
UID:2351-1790812800-1790899199@budiodrziv.rs
SUMMARY:Svetski dan vegetarijanstva
DESCRIPTION:Promoviše zdravu ishranu i smanjenje uticaja prehrambene industrije na životnu sredinu. \nVegetarijanstvo doprinosi zdravlju i smanjenju emisija. \nPoruka: Biraj biljnu hranu – dobro je za tebe i planetu. \nPovezanost sa UN ciljevima održivog razvoja \nSDG 3 Dobro zdravlje i blagostanje \nSDG 12 Odgovorna potrošnja i proizvodnja \nSDG 13 Akcija za klimu
URL:https://budiodrziv.rs/kalendar/svetski-dan-vegetarijanstva/
ATTACH;FMTTYPE=image/jpeg:https://budiodrziv.rs/wp-content/uploads/2026/02/plant-based-food-e1771804061451.jpg
END:VEVENT
BEGIN:VEVENT
DTSTART;VALUE=DATE:20261002
DTEND;VALUE=DATE:20261003
DTSTAMP:20260425T143414
CREATED:20260201T204916Z
LAST-MODIFIED:20260222T234655Z
UID:2354-1790899200-1790985599@budiodrziv.rs
SUMMARY:Međunarodni dan borbe protiv nasilja
DESCRIPTION:Podseća na važnost nenasilja kao temelja mira i ljudskog dostojanstva. \nNenasilje je put ka pravednom društvu. \nPoruka: Nenasilje je snaga – gradi mir kroz poštovanje. \nPovezanost sa UN ciljevima održivog razvoja \nSDG 16 Mir\, pravda i snažne institucije
URL:https://budiodrziv.rs/kalendar/medunarodni-dan-borbe-protiv-nasilja/
ATTACH;FMTTYPE=image/jpeg:https://budiodrziv.rs/wp-content/uploads/2026/02/gdfa447939d912e0af444d3c64841169e895a82165ab9d95a2a110640fc845f5d40ebde75c53e9599daeead1210bfba15_640-3958780-e1771804006876.jpg
END:VEVENT
BEGIN:VEVENT
DTSTART;VALUE=DATE:20261005
DTEND;VALUE=DATE:20261006
DTSTAMP:20260425T143414
CREATED:20260201T205221Z
LAST-MODIFIED:20260201T205221Z
UID:2357-1791158400-1791244799@budiodrziv.rs
SUMMARY:Svetski dan nastavnika
DESCRIPTION:Slavi se uloga nastavnika u obrazovanju i oblikovanju budućih generacija. \nNastavnici su ključni za inkluzivno i kvalitetno obrazovanje. \nPoruka: Nastavnici inspirišu – podrži ih da grade održivo društvo. \nPovezanost sa UN ciljevima održivog razvoja \nSDG 4 Kvalitetno obrazovanje
URL:https://budiodrziv.rs/kalendar/svetski-dan-nastavnika/
ATTACH;FMTTYPE=image/jpeg:https://budiodrziv.rs/wp-content/uploads/2026/02/pexels-photo-5212703-5212703.jpg
END:VEVENT
BEGIN:VEVENT
DTSTART;VALUE=DATE:20261006
DTEND;VALUE=DATE:20261007
DTSTAMP:20260425T143414
CREATED:20260201T205817Z
LAST-MODIFIED:20260225T083149Z
UID:2360-1791244800-1791331199@budiodrziv.rs
SUMMARY:Svetski dan naselja
DESCRIPTION:Obeležava se značaj održivih gradova i naselja za kvalitet života. \nFokus je na pravu na stanovanje i urbanom razvoju. \nPoruka: Gradovi su naš dom – učini ih održivim \nPovezanost sa UN ciljevima održivog razvoja \nSDG 11 Održivi gradovi i zajednice
URL:https://budiodrziv.rs/kalendar/svetski-dan-naselja/
ATTACH;FMTTYPE=image/jpeg:https://budiodrziv.rs/wp-content/uploads/2026/02/g2206139b081aa9a386c91f4974c49dc5934d9ac19bd29bc476ad4b0e3dcc201bba6ef63100192ca2f7f5080d2f4857924423a735f07e936f4e49942acb7db0d3_1280-2702430-e1772008270687.jpg
END:VEVENT
BEGIN:VEVENT
DTSTART;VALUE=DATE:20261006
DTEND;VALUE=DATE:20261007
DTSTAMP:20260425T143414
CREATED:20260326T111554Z
LAST-MODIFIED:20260326T111554Z
UID:4021-1791244800-1791331199@budiodrziv.rs
SUMMARY:Međunarodni dan geodiverziteta
DESCRIPTION:UNESCO je prepoznao važnost geonauke u rešavanju velikih izazova sa kojima se čovečanstvo suočava. Potrebno je da promovišemo bolje razumevanje Zemljinih dinamičkih procesa\, kako bismo mogli da donosimo informisane političke odluke koje će negovati održivije društvo. \nPoruka: Radimo zajedno na očuvanju resursa naše Zemlje za buduće generacije. \npovezanost sa UN ciljevima održivog razvoja \nSDG 14 Život pod vodom \nSDG 15 Život na kopnu \nSDG 17 Partnerstvom do ciljeva
URL:https://budiodrziv.rs/kalendar/medunarodni-dan-geodiverziteta/
ATTACH;FMTTYPE=image/jpeg:https://budiodrziv.rs/wp-content/uploads/2026/03/djerdap-Srbija-Geopark-e1774523739149.jpg
END:VEVENT
BEGIN:VEVENT
DTSTART;VALUE=DATE:20261010
DTEND;VALUE=DATE:20261011
DTSTAMP:20260425T143414
CREATED:20260405T150156Z
LAST-MODIFIED:20260405T150156Z
UID:4262-1791590400-1791676799@budiodrziv.rs
SUMMARY:Svetski dan mentalnog zdravlja
DESCRIPTION:Obeležavanje Svetskog dana mentalnog zdravlja podseća na važnost brige o psihološkom blagostanju i destigmatizacije mentalnih poteškoća. Mentalno zdravlje je temelj društvene kohezije\, produktivnosti i održivog razvoja – bez zdravih pojedinaca nema zdravih zajednica.\nPoruka iz ugla održivosti:\n„Briga o mentalnom zdravlju znači briga o održivim zajednicama.“\nPovezanost sa UN ciljevima održivog razvoja:\n• SDG 3 – Zdravlje i blagostanje: mentalno zdravlje je ključni deo opšteg zdravlja i kvaliteta života.\n• SDG 8 – Dostojanstven rad i ekonomski rast: zdravi radnici doprinose produktivnosti i inovacijama.\n• SDG 10 – Smanjenje nejednakosti: dostupnost mentalno-zdravstvenih usluga smanjuje društvene razlike.
URL:https://budiodrziv.rs/kalendar/svetski-dan-mentalnog-zdravlja/
END:VEVENT
BEGIN:VEVENT
DTSTART;VALUE=DATE:20261012
DTEND;VALUE=DATE:20261013
DTSTAMP:20260425T143414
CREATED:20260201T211432Z
LAST-MODIFIED:20260222T234554Z
UID:2363-1791763200-1791849599@budiodrziv.rs
SUMMARY:Svetski dan algi
DESCRIPTION:Promoviše se značaj algi u proizvodnji kiseonika\, hrane i inovacijama. \nAlge su resurs budućnosti za održivu energiju i ishranu. \nPoruka: Alge hrane i štite planetu – otkrij njihovu moć. \nPovezanost sa UN ciljevima održivog razvoja \nSDG 14 Život pod vodom \nSDG 12 Odgovorna potrošnja i proizvodnja
URL:https://budiodrziv.rs/kalendar/svetski-dan-algi/
ATTACH;FMTTYPE=image/png:https://budiodrziv.rs/wp-content/uploads/2026/02/alge-superfood-e1771803945804.png
END:VEVENT
BEGIN:VEVENT
DTSTART;VALUE=DATE:20261012
DTEND;VALUE=DATE:20261013
DTSTAMP:20260425T143414
CREATED:20260201T212018Z
LAST-MODIFIED:20260222T234443Z
UID:2366-1791763200-1791849599@budiodrziv.rs
SUMMARY:Dan akcije za klimu mladih
DESCRIPTION:Podseća na ulogu mladih u borbi protiv klimatskih promena. \nNjihov glas je ključan za održivu budućnost. \nPoruka: Mladi su snaga klime – slušaj ih i deluj. \nPovezanost sa UN ciljevima održivog razvoja \nSDG 13 Akcija za klimu \nSDG 4 Kvalitetno obrazovanje
URL:https://budiodrziv.rs/kalendar/dan-akcije-za-klimu-mladih/
ATTACH;FMTTYPE=image/jpeg:https://budiodrziv.rs/wp-content/uploads/2025/12/pexels-photo-4587862-4587862-scaled-e1771803868902.jpg
END:VEVENT
BEGIN:VEVENT
DTSTART;VALUE=DATE:20261013
DTEND;VALUE=DATE:20261014
DTSTAMP:20260425T143414
CREATED:20260201T212437Z
LAST-MODIFIED:20260201T212437Z
UID:2368-1791849600-1791935999@budiodrziv.rs
SUMMARY:Međunarodni dan borbe protiv prirodnih katastrofa
DESCRIPTION:Obeležava se važnost prevencije i otpornosti zajednica na katastrofe. \nPriprema spasava živote i čuva resurse. \nPoruka: Prevencija je zaštita – budi spreman za izazove prirode. \nPovezanost sa UN ciljevima održivog razvoja \nSDG 11 Održivi gradovi i zajednice \nSDG 13 Akcija za klimu
URL:https://budiodrziv.rs/kalendar/medunarodni-dan-borbe-protiv-prirodnih-katastrofa/
ATTACH;FMTTYPE=image/jpeg:https://budiodrziv.rs/wp-content/uploads/2026/02/desert-drought-dehydrated-clay-soil-60013-60013.jpg
END:VEVENT
BEGIN:VEVENT
DTSTART;VALUE=DATE:20261014
DTEND;VALUE=DATE:20261015
DTSTAMP:20260425T143414
CREATED:20260201T213130Z
LAST-MODIFIED:20260222T234330Z
UID:2371-1791936000-1792022399@budiodrziv.rs
SUMMARY:Međunarodni dan E-otpada
DESCRIPTION:Podseća na potrebu odgovornog upravljanja elektronskim otpadom. \nReciklaža e-otpada čuva resurse i smanjuje zagađenje. \nPoruka: Pametno koristi tehnologiju – recikliraj e-otpad. \nPovezanost sa UN ciljevima održivog razvoja \nSDG 12 Odgovorna potrošnja i proizvodnja
URL:https://budiodrziv.rs/kalendar/medunarodni-dan-e-otpada/
ATTACH;FMTTYPE=image/png:https://budiodrziv.rs/wp-content/uploads/2026/02/e-waste-tree-e1771803793242.png
END:VEVENT
BEGIN:VEVENT
DTSTART;VALUE=DATE:20261016
DTEND;VALUE=DATE:20261017
DTSTAMP:20260425T143414
CREATED:20260201T213618Z
LAST-MODIFIED:20260222T234216Z
UID:2374-1792108800-1792195199@budiodrziv.rs
SUMMARY:Svetski dan hrane
DESCRIPTION:Promoviše se pravo na hranu i potreba za održivim prehrambenim sistemima. \nHrana je osnovno ljudsko pravo. \nPoruka: Hrana je život – obezbedi je za sve. \nPovezanost sa UN ciljevima održivog razvoja \nSDG 2 Svet bez gladi \nSDG 12 Odgovorna potrošnja i proizvodnja
URL:https://budiodrziv.rs/kalendar/svetski-dan-hrane/
ATTACH;FMTTYPE=image/jpeg:https://budiodrziv.rs/wp-content/uploads/2026/02/sustainable-and-nutrition-food-e1771803727847.jpg
END:VEVENT
BEGIN:VEVENT
DTSTART;VALUE=DATE:20261017
DTEND;VALUE=DATE:20261018
DTSTAMP:20260425T143414
CREATED:20260201T214113Z
LAST-MODIFIED:20260201T214113Z
UID:2377-1792195200-1792281599@budiodrziv.rs
SUMMARY:Međunarodni dan iskorenjivanja siromaštva
DESCRIPTION:Podseća na globalnu borbu protiv siromaštva i nejednakosti. \nSiromaštvo mora biti iskorenjeno za održivi razvoj. \nPoruka: Siromaštvo nije sudbina – zajedno ga možemo iskoreniti. \nPovezanost sa UN ciljevima održivog razvoja \nSDG 1 Svet bez siromaštva \nSDG 10 Smanjenje nejednakosti
URL:https://budiodrziv.rs/kalendar/medunarodni-dan-iskorenjivanja-siromastva/
ATTACH;FMTTYPE=image/jpeg:https://budiodrziv.rs/wp-content/uploads/2026/02/pexels-photo-9532327-9532327.jpg
END:VEVENT
BEGIN:VEVENT
DTSTART;VALUE=DATE:20261021
DTEND;VALUE=DATE:20261022
DTSTAMP:20260425T143414
CREATED:20260202T111340Z
LAST-MODIFIED:20260222T234047Z
UID:2423-1792540800-1792627199@budiodrziv.rs
SUMMARY:Svetski dan očuvanja energije
DESCRIPTION:Obeležava se važnost štednje energije i efikasne upotrebe resursa. \nSvaka ušteda doprinosi održivoj budućnosti. \nPoruka: Štedi energiju – čuvaš planetu i resurse. \nPovezanost sa UN ciljevima održivog razvoja \nSDG 7 Dostupna i obnovljiva energija \nSDG 9 – Industrija\, inovacije i infrastruktura \nSDG 13 Akcija za klimu
URL:https://budiodrziv.rs/kalendar/svetski-dan-ocuvanja-energije/
ATTACH;FMTTYPE=image/jpeg:https://budiodrziv.rs/wp-content/uploads/2026/02/hands-holding-planet-with-plant-with-letters-e1771803636249.jpg
END:VEVENT
BEGIN:VEVENT
DTSTART;VALUE=DATE:20261024
DTEND;VALUE=DATE:20261025
DTSTAMP:20260425T143414
CREATED:20260202T115036Z
LAST-MODIFIED:20260222T234008Z
UID:2431-1792800000-1792886399@budiodrziv.rs
SUMMARY:Svetski dan UN-a
DESCRIPTION:Slavi se osnivanje Ujedinjenih nacija i njihova misija mira i razvoja. \nUN su simbol globalne saradnje. \nPoruka: UN povezuju svet – zajedno za održivost i mir. \nPovezanost sa UN ciljevima održivog razvoja \nSDG 16 Mir\, pravda i snažne institucije \nSDG 17 Partnerstvom do ciljeva
URL:https://budiodrziv.rs/kalendar/svetski-dan-un-a/
ATTACH;FMTTYPE=image/jpeg:https://budiodrziv.rs/wp-content/uploads/2026/02/g03ed3ac7472e967750405239855f8496f88f8ab2aeb3d2c8b7fd7732f74ccf899ff77bab4e949c3e36719e2194bbac1b710d8cf27ed890a94308bb3bcb7ac0ec_1280-4984799-e1771803597343.jpg
END:VEVENT
BEGIN:VEVENT
DTSTART;VALUE=DATE:20261024
DTEND;VALUE=DATE:20261025
DTSTAMP:20260425T143414
CREATED:20260202T115453Z
LAST-MODIFIED:20260222T233919Z
UID:2434-1792800000-1792886399@budiodrziv.rs
SUMMARY:Svetski dan razvoja informatike
DESCRIPTION:Obeležava se značaj digitalnih tehnologija u razvoju društva. \nInformatika podstiče inovacije i obrazovanje. \nPoruka: Digitalni razvoj je snaga – koristi ga za dobrobit svih. \nPovezanost sa UN ciljevima održivog razvoja \nSDG 9 Industrija\, inovacije i infrastruktura \nSDG 4 Kvalitetno obrazovanje
URL:https://budiodrziv.rs/kalendar/svetski-dan-razvoja-informatike/
ATTACH;FMTTYPE=image/jpeg:https://budiodrziv.rs/wp-content/uploads/2026/02/gd16f03477a183fc7106d0cbaf56a875fd160d22b4a2fba6557126987f0546cbf53c28af8256ab84a60f64b8e744244ed_640-5475661-e1771803549898.jpg
END:VEVENT
BEGIN:VEVENT
DTSTART;TZID=Europe/Belgrade:20261024T000000
DTEND;TZID=Europe/Belgrade:20261031T233000
DTSTAMP:20260425T143414
CREATED:20260202T114706Z
LAST-MODIFIED:20260222T233737Z
UID:2428-1792800000-1793489400@budiodrziv.rs
SUMMARY:Nedelja medijske i informacione pismenosti
DESCRIPTION:Podseća na važnost kritičkog razmišljanja i pristupa informacijama. \nMedijska pismenost jača demokratiju i održivost. \nPoruka: Informacija je moć – koristi je odgovorno. \nPovezanost sa UN ciljevima održivog razvoja \nSDG 4 Kvalitetno obrazovanje \nSDG 16 Mir\, pravda i snažne institucije
URL:https://budiodrziv.rs/kalendar/nedelja-medijske-i-informacione-pismenosti/
ATTACH;FMTTYPE=image/jpeg:https://budiodrziv.rs/wp-content/uploads/2026/02/g485fbb513f6ac91cf411423d57d0074fe295b1522dbb07f8e7f06640ddcaae888a8b89888ef2a7b4d27abbb60f402c62a774b1febba6b8534999e61ada363aeb_1280-1632912-e1771803446757.jpg
END:VEVENT
BEGIN:VEVENT
DTSTART;VALUE=DATE:20261029
DTEND;VALUE=DATE:20261030
DTSTAMP:20260425T143414
CREATED:20260202T121208Z
LAST-MODIFIED:20260202T121208Z
UID:2439-1793232000-1793318399@budiodrziv.rs
SUMMARY:Međunarodni dan međusobnog pomaganja
DESCRIPTION:Slavi se solidarnost i briga među ljudima. \nPomaganje jača zajednice i podstiče mir. \nPoruka: Pomoć je dar – neguj zajedništvo. \nPovezanost sa UN ciljevima održivog razvoja \nSDG 1 Svet bez siromaštva \nSDG 16 Mir\, pravda i snažne institucije
URL:https://budiodrziv.rs/kalendar/medunarodni-dan-medusobnog-pomaganja/
ATTACH;FMTTYPE=image/jpeg:https://budiodrziv.rs/wp-content/uploads/2026/02/pexels-photo-8829175-8829175.jpg
END:VEVENT
BEGIN:VEVENT
DTSTART;VALUE=DATE:20261031
DTEND;VALUE=DATE:20261101
DTSTAMP:20260425T143414
CREATED:20260202T121758Z
LAST-MODIFIED:20260202T121758Z
UID:2442-1793404800-1793491199@budiodrziv.rs
SUMMARY:Svetski dan gradova
DESCRIPTION:Obeležava se značaj održivog urbanog razvoja i inkluzivnih gradova. \nGradovi su centri inovacija i društvenog života. \nPoruka: Gradovi su budućnost – učini ih održivim i pravednim. \nPovezanost sa UN ciljevima održivog razvoja \nSDG 11 Održivi gradovi i zajednice
URL:https://budiodrziv.rs/kalendar/svetski-dan-gradova/
ATTACH;FMTTYPE=image/jpeg:https://budiodrziv.rs/wp-content/uploads/2026/02/pexels-photo-15480402-15480402.jpg
END:VEVENT
BEGIN:VEVENT
DTSTART;VALUE=DATE:20261103
DTEND;VALUE=DATE:20261104
DTSTAMP:20260425T143414
CREATED:20260326T115203Z
LAST-MODIFIED:20260326T115203Z
UID:4025-1793664000-1793750399@budiodrziv.rs
SUMMARY:Međunarodni dan rezervata biosfere
DESCRIPTION:Ovaj dan nas poziva da se inspirišemo rešenjima koja su već primenjena u ovim prostorima kako bismo izgradili istinski održivi razvoj svuda\, uz puno poštovanje prirode i živog sveta. \nPoruka: Uspostavimo održiv i harmoničan odnos sa prirodom. \npovezanost sa UN ciljevima održivog razvoja \nSDG 14 Život pod vodom \nSDG 15 Život na kopnu
URL:https://budiodrziv.rs/kalendar/medunarodni-dan-rezervata-biosfere/
ATTACH;FMTTYPE=image/jpeg:https://budiodrziv.rs/wp-content/uploads/2026/03/Podunavlje-Kostin.jpg
END:VEVENT
BEGIN:VEVENT
DTSTART;VALUE=DATE:20261106
DTEND;VALUE=DATE:20261107
DTSTAMP:20260425T143414
CREATED:20260202T123704Z
LAST-MODIFIED:20260222T233626Z
UID:2445-1793923200-1794009599@budiodrziv.rs
SUMMARY:Dan akcije za klimu
DESCRIPTION:Podseća na hitnost borbe na globalnom nivou protiv klimatskih promena. \nMladi\, zajednice i institucije pozivaju na konkretne akcije. \nPoruka: Klima ne čeka – deluj sada za održivu budućnost. \nPovezanost sa UN ciljevima održivog razvoja \nSDG 13 Akcija za klimu
URL:https://budiodrziv.rs/kalendar/dan-akcije-za-klimu/
ATTACH;FMTTYPE=image/jpeg:https://budiodrziv.rs/wp-content/uploads/2026/02/climate-action-day_cliffs_sea_M-e1771803378245.jpg
END:VEVENT
BEGIN:VEVENT
DTSTART;VALUE=DATE:20261108
DTEND;VALUE=DATE:20261109
DTSTAMP:20260425T143414
CREATED:20260202T123921Z
LAST-MODIFIED:20260202T124102Z
UID:2448-1794096000-1794182399@budiodrziv.rs
SUMMARY:Dan planiranja izgradnje gradova
DESCRIPTION:Promoviše se značaj urbanog planiranja za održive\, inkluzivne i otporne gradove. \nPametno planiranje čuva resurse i kvalitet života. \nPoruka: Planiraj gradove za ljude – održivost počinje urbanim dizajnom. \nPovezanost sa UN ciljevima održivog razvoja \nSDG 11 Održivi gradovi i zajednice
URL:https://budiodrziv.rs/kalendar/dan-planiranja-izgradnje-gradova/
ATTACH;FMTTYPE=image/jpeg:https://budiodrziv.rs/wp-content/uploads/2026/02/pexels-photo-9618127-9618127.jpg
END:VEVENT
BEGIN:VEVENT
DTSTART;VALUE=DATE:20261110
DTEND;VALUE=DATE:20261111
DTSTAMP:20260425T143414
CREATED:20260202T124438Z
LAST-MODIFIED:20260202T124438Z
UID:2451-1794268800-1794355199@budiodrziv.rs
SUMMARY:Svetski dan nauke za mir i razvoj
DESCRIPTION:Obeležava se uloga nauke u rešavanju globalnih izazova i izgradnji mira. \nNauka povezuje ljude kroz znanje i inovacije. \nPoruka: Nauka je most ka miru – koristi je za održivi razvoj. \nPovezanost sa UN ciljevima održivog razvoja \nSDG 9 Industrija\, inovacije i infrastruktura \nSDG 16 Mir\, pravda i snažne institucije
URL:https://budiodrziv.rs/kalendar/svetski-dan-nauke-za-mir-i-razvoj/
ATTACH;FMTTYPE=image/jpeg:https://budiodrziv.rs/wp-content/uploads/2026/02/pexels-photo-8471930-8471930.jpg
END:VEVENT
BEGIN:VEVENT
DTSTART;VALUE=DATE:20261114
DTEND;VALUE=DATE:20261115
DTSTAMP:20260425T143414
CREATED:20260202T125646Z
LAST-MODIFIED:20260225T082445Z
UID:2454-1794614400-1794700799@budiodrziv.rs
SUMMARY:Svetski dan borbe protiv dijabetesa
DESCRIPTION:Podseća na prevenciju i brigu o zdravlju kroz zdravu ishranu i fizičku aktivnost. \nDijabetes je globalni izazov koji zahteva podizanje svesti i edukaciju javnosti. \nPoruka: Zdrav život je najbolja prevencija – čuvaj svoje zdravlje. \nPovezanost sa UN ciljevima održivog razvoja \nSDG 3 Dobro zdravlje i blagostanje
URL:https://budiodrziv.rs/kalendar/svetski-dan-borbe-protiv-dijabetesa/
ATTACH;FMTTYPE=image/jpeg:https://budiodrziv.rs/wp-content/uploads/2026/02/pexels-photo-6942074-6942074-scaled-e1772007875309.jpg
END:VEVENT
BEGIN:VEVENT
DTSTART;VALUE=DATE:20261116
DTEND;VALUE=DATE:20261117
DTSTAMP:20260425T143414
CREATED:20260202T130101Z
LAST-MODIFIED:20260222T233417Z
UID:2457-1794787200-1794873599@budiodrziv.rs
SUMMARY:Međunarodni dan tolerancije
DESCRIPTION:Slavi se poštovanje različitosti i miran suživot. \nTolerancija je temelj inkluzivnog društva. \nPoruka: Tolerancija gradi mostove – neguj je svakim delom. \nPovezanost sa UN ciljevima održivog razvoja \nSDG 16 Mir\, pravda i snažne institucije \nSDG 5 – Rodna ravnopravnost
URL:https://budiodrziv.rs/kalendar/medunarodni-dan-tolerancije/
ATTACH;FMTTYPE=image/jpeg:https://budiodrziv.rs/wp-content/uploads/2026/02/pexels-photo-6842437-6842437-e1771803234623.jpg
END:VEVENT
BEGIN:VEVENT
DTSTART;VALUE=DATE:20261119
DTEND;VALUE=DATE:20261120
DTSTAMP:20260425T143414
CREATED:20260405T150927Z
LAST-MODIFIED:20260405T151230Z
UID:4264-1795046400-1795132799@budiodrziv.rs
SUMMARY:Svetski dan filozofije
DESCRIPTION:Filozofija kao alat za promenu: UNESCO naglašava da filozofija nije samo akademska disciplina\, već svakodnevna praksa koja može transformisati društva.\n• Kritičko mišljenje i dijalog: obeležavanje dana podseća na važnost razmene ideja i argumentovanog razgovora\, što je ključno za rešavanje savremenih izazova.\n• Uloga u održivosti: filozofija nas podseća da održivost nije samo tehničko pitanje\, već i etičko – kako donosimo odluke\, kome dajemo prioritet i kakvu budućnost gradimo. \n„Filozofija nas uči da održivost nije samo tehnologija\, već i etika – promišljaj\, razgovaraj\, menjaj.“ \nPovezanost sa UN ciljevima održivog razvoja\n• SDG 4 – Kvalitetno obrazovanje: filozofija razvija kritičko mišljenje i doprinosi kvalitetnom obrazovanju.\n• SDG 16 – Mir\, pravda i snažne institucije: filozofski dijalog podstiče toleranciju\, inkluziju i pravedno društvo.\n• SDG 17 – Partnerstva za ciljeve: filozofija otvara prostor za globalni dijalog i saradnju između kultura.
URL:https://budiodrziv.rs/kalendar/svetski-dan-filozofije/
END:VEVENT
BEGIN:VEVENT
DTSTART;VALUE=DATE:20261120
DTEND;VALUE=DATE:20261121
DTSTAMP:20260425T143414
CREATED:20260202T130635Z
LAST-MODIFIED:20260225T082100Z
UID:2460-1795132800-1795219199@budiodrziv.rs
SUMMARY:Svetski dan deteta
DESCRIPTION:Obeležava se pravo svakog deteta na obrazovanje\, zdravlje i zaštitu. \nDeca su budućnost održivog sveta. \nPoruka: Svako dete zaslužuje šansu – ulaži u njihovu budućnost. \nPovezanost sa UN ciljevima održivog razvoja \nSDG 4 Kvalitetno obrazovanje \nSDG 3 Dobro zdravlje i blagostanje
URL:https://budiodrziv.rs/kalendar/svetski-dan-deteta/
ATTACH;FMTTYPE=image/jpeg:https://budiodrziv.rs/wp-content/uploads/2026/02/pexels-photo-296301-296301-scaled-e1772007578421.jpg
END:VEVENT
BEGIN:VEVENT
DTSTART;VALUE=DATE:20261126
DTEND;VALUE=DATE:20261127
DTSTAMP:20260425T143414
CREATED:20260202T130937Z
LAST-MODIFIED:20260222T233214Z
UID:2463-1795651200-1795737599@budiodrziv.rs
SUMMARY:Svetski dan održivog transporta
DESCRIPTION:Podseća na važnost transporta koji smanjuje emisije i povezuje ljude. \nOdrživi transport znači čistije gradove i zdraviju planetu. \nPoruka: Putuj održivo – transport oblikuje budućnost \nPovezanost sa UN ciljevima održivog razvoja \nSDG 11 Održivi gradovi i zajednice \nSDG 13 Akcija za klimu
URL:https://budiodrziv.rs/kalendar/svetski-dan-odrzivog-transporta/
ATTACH;FMTTYPE=image/png:https://budiodrziv.rs/wp-content/uploads/2026/02/odrzivi-transport-e1771803119379.png
END:VEVENT
BEGIN:VEVENT
DTSTART;VALUE=DATE:20261126
DTEND;VALUE=DATE:20261127
DTSTAMP:20260425T143414
CREATED:20260326T120625Z
LAST-MODIFIED:20260326T120625Z
UID:4029-1795651200-1795737599@budiodrziv.rs
SUMMARY:Svetski dan maslina
DESCRIPTION:Ovaj dan podstiče zaštitu masline i vrednosti koje ona označava\, kako bi se cenio njen važan društveni\, kulturni\, ekonomski i ekološki značaj za čovečanstvo. \nMaslinovo drvo i maslinova grančica\, od davnina simbolizuje mir\, mudrost i harmoniju i kao takvo je važno ne samo za zemlje u kojima ovo plemenito drveće raste\, već i za ljude i zajednice širom sveta. \nPoruka: Čuvajte i negujte masline jer je to  imperativ za veću ekološku održivost. \npovezanost sa UN ciljevima održivog razvoja \nSDG 3 Dobro zdravlje i blagostanje \nSDG 15 – Život na kopnu
URL:https://budiodrziv.rs/kalendar/svetski-dan-maslina/
ATTACH;FMTTYPE=image/jpeg:https://budiodrziv.rs/wp-content/uploads/2026/03/pexels-photo-5503980-5503980.jpg
END:VEVENT
BEGIN:VEVENT
DTSTART;VALUE=DATE:20261202
DTEND;VALUE=DATE:20261203
DTSTAMP:20260425T143414
CREATED:20260202T131443Z
LAST-MODIFIED:20260326T070548Z
UID:2466-1796169600-1796255999@budiodrziv.rs
SUMMARY:Svetski dan kompjuterske pismenosti
DESCRIPTION:Podseća na važnost digitalne inkluzije i obrazovanja. \nDigitalna pismenost otvara vrata znanju i inovacijama. \nPoruka: Digitalna pismenost je ključ – osnaži ljude\, najpre decu\, kroz tehnologiju. \nPovezanost sa UN ciljevima održivog razvoja \nSDG 4 Kvalitetno obrazovanje \nSDG 9 Industrija\, inovacije i infrastruktura
URL:https://budiodrziv.rs/kalendar/dan-buducnosti/
ATTACH;FMTTYPE=image/jpeg:https://budiodrziv.rs/wp-content/uploads/2026/02/pexels-photo-5621949-5621949-e1771802916835.jpg
END:VEVENT
END:VCALENDAR