BEGIN:VCALENDAR
VERSION:2.0
PRODID:-// - ECPv6.15.20//NONSGML v1.0//EN
CALSCALE:GREGORIAN
METHOD:PUBLISH
X-ORIGINAL-URL:https://budiodrziv.rs
X-WR-CALDESC:Events for 
REFRESH-INTERVAL;VALUE=DURATION:PT1H
X-Robots-Tag:noindex
X-PUBLISHED-TTL:PT1H
BEGIN:VTIMEZONE
TZID:Europe/Belgrade
BEGIN:DAYLIGHT
TZOFFSETFROM:+0100
TZOFFSETTO:+0200
TZNAME:CEST
DTSTART:20250330T010000
END:DAYLIGHT
BEGIN:STANDARD
TZOFFSETFROM:+0200
TZOFFSETTO:+0100
TZNAME:CET
DTSTART:20251026T010000
END:STANDARD
BEGIN:DAYLIGHT
TZOFFSETFROM:+0100
TZOFFSETTO:+0200
TZNAME:CEST
DTSTART:20260329T010000
END:DAYLIGHT
BEGIN:STANDARD
TZOFFSETFROM:+0200
TZOFFSETTO:+0100
TZNAME:CET
DTSTART:20261025T010000
END:STANDARD
BEGIN:DAYLIGHT
TZOFFSETFROM:+0100
TZOFFSETTO:+0200
TZNAME:CEST
DTSTART:20270328T010000
END:DAYLIGHT
BEGIN:STANDARD
TZOFFSETFROM:+0200
TZOFFSETTO:+0100
TZNAME:CET
DTSTART:20271031T010000
END:STANDARD
END:VTIMEZONE
BEGIN:VEVENT
DTSTART;VALUE=DATE:20260929
DTEND;VALUE=DATE:20260930
DTSTAMP:20260425T131707
CREATED:20260201T203336Z
LAST-MODIFIED:20260222T234959Z
UID:2345-1790640000-1790726399@budiodrziv.rs
SUMMARY:Međunarodni dan svesti o gubitku i rasipanju hrane
DESCRIPTION:Ovaj dan podseća na ogromne količine hrane koje se svakodnevno bacaju\, dok milioni ljudi gladuju. Smanjenje rasipanja hrane znači očuvanje resursa\, smanjenje emisija i pravedniju raspodelu. \nPoruka: Hrana je dragocena – koristi je odgovorno\, deli je pravedno. \nPovezanost sa UN ciljevima održivog razvoja \nSDG 2 Svet bez gladi \nSDG 12 Odgovorna potrošnja i proizvodnja \nSDG 13 Akcija za klimu
URL:https://budiodrziv.rs/kalendar/medunarodni-dan-svesti-o-gubitku-i-rasipanju-hrane/
ATTACH;FMTTYPE=image/webp:https://budiodrziv.rs/wp-content/uploads/2026/02/Food-waste--e1771804189637.webp
END:VEVENT
END:VCALENDAR