BEGIN:VCALENDAR
VERSION:2.0
PRODID:-// - ECPv6.15.20//NONSGML v1.0//EN
CALSCALE:GREGORIAN
METHOD:PUBLISH
X-ORIGINAL-URL:https://budiodrziv.rs
X-WR-CALDESC:Events for 
REFRESH-INTERVAL;VALUE=DURATION:PT1H
X-Robots-Tag:noindex
X-PUBLISHED-TTL:PT1H
BEGIN:VTIMEZONE
TZID:Europe/Belgrade
BEGIN:DAYLIGHT
TZOFFSETFROM:+0100
TZOFFSETTO:+0200
TZNAME:CEST
DTSTART:20250330T010000
END:DAYLIGHT
BEGIN:STANDARD
TZOFFSETFROM:+0200
TZOFFSETTO:+0100
TZNAME:CET
DTSTART:20251026T010000
END:STANDARD
BEGIN:DAYLIGHT
TZOFFSETFROM:+0100
TZOFFSETTO:+0200
TZNAME:CEST
DTSTART:20260329T010000
END:DAYLIGHT
BEGIN:STANDARD
TZOFFSETFROM:+0200
TZOFFSETTO:+0100
TZNAME:CET
DTSTART:20261025T010000
END:STANDARD
BEGIN:DAYLIGHT
TZOFFSETFROM:+0100
TZOFFSETTO:+0200
TZNAME:CEST
DTSTART:20270328T010000
END:DAYLIGHT
BEGIN:STANDARD
TZOFFSETFROM:+0200
TZOFFSETTO:+0100
TZNAME:CET
DTSTART:20271031T010000
END:STANDARD
END:VTIMEZONE
BEGIN:VEVENT
DTSTART;VALUE=DATE:20260429
DTEND;VALUE=DATE:20260430
DTSTAMP:20260424T121918
CREATED:20260201T085836Z
LAST-MODIFIED:20260201T091746Z
UID:2200-1777420800-1777507199@budiodrziv.rs
SUMMARY:Međunarodni dan zaštite od buke
DESCRIPTION:Podseća na štetne efekte buke na zdravlje i kvalitet života. \nSmanjenje zagađenja bukom doprinosi zdravijem okruženju. \nPoruka: Tišina je zdravlje – smanji buku\, oslobodi prostor za mir. \nPovezanost sa UN ciljevima održivog razvoja \nSDG 3 –Dobro zdravlje i blagostanje \nSDG 11 – Održivi gradovi i zajednice
URL:https://budiodrziv.rs/kalendar/medunarodni-dan-zastite-od-buke/
ATTACH;FMTTYPE=image/png:https://budiodrziv.rs/wp-content/uploads/2026/02/noise-e1776934506617.png
END:VEVENT
BEGIN:VEVENT
DTSTART;VALUE=DATE:20260531
DTEND;VALUE=DATE:20260601
DTSTAMP:20260424T121918
CREATED:20260201T143054Z
LAST-MODIFIED:20260223T000837Z
UID:2256-1780185600-1780271999@budiodrziv.rs
SUMMARY:Svetski dan bez duvana
DESCRIPTION:Podseća na štetne posledice upotrebe duvana po zdravlje i životnu sredinu. \nOdbacivanje duvana znači zdraviji život i čistiju planetu. \nPoruka: Bez duvana – zdravlje i održivost za sve. \nPovezanost sa UN ciljevima održivog razvoja \nSDG 3 Dobro zdravlje i blagostanje
URL:https://budiodrziv.rs/kalendar/svetski-dan-bez-duvana/
ATTACH;FMTTYPE=image/jpeg:https://budiodrziv.rs/wp-content/uploads/2026/02/ge5705bc927a4c3b06aa02756d9f6de96c7465fee313424a2f8f60fc017c882f46a3dd5925ebbfe2d8bc1c753be10b891_640-2383236-e1771805306717.jpg
END:VEVENT
BEGIN:VEVENT
DTSTART;VALUE=DATE:20260603
DTEND;VALUE=DATE:20260604
DTSTAMP:20260424T121918
CREATED:20260201T144157Z
LAST-MODIFIED:20260326T064459Z
UID:2262-1780444800-1780531199@budiodrziv.rs
SUMMARY:Svetski dan bicikla
DESCRIPTION:Slavi se bicikl kao održivo prevozno sredstvo koje smanjuje emisije i podstiče zdravlje. \nBiciklizam doprinosi čistijim gradovima. \nPoruka: Bicikl pokreće održivost – vozi za zdravlje i planetu. \nPovezanost sa UN ciljevima održivog razvoja \nSDG 11 Održivi gradovi i zajednice \nSDG 3 Dobro zdravlje i blagostanje \nSDG 13 Akcija za klimu
URL:https://budiodrziv.rs/kalendar/svetski-dan-bicikla/
ATTACH;FMTTYPE=image/jpeg:https://budiodrziv.rs/wp-content/uploads/2026/02/ge0eae8b19c76438a51a5087d822ee2ce4b96d3246e7e47593423503120a25f459eac11eb28c6c6057a29748a48301647_640-3731094-e1771805283391.jpg
END:VEVENT
BEGIN:VEVENT
DTSTART;VALUE=DATE:20260929
DTEND;VALUE=DATE:20260930
DTSTAMP:20260424T121918
CREATED:20260201T203634Z
LAST-MODIFIED:20260222T234901Z
UID:2348-1790640000-1790726399@budiodrziv.rs
SUMMARY:Svetski dan srca
DESCRIPTION:Obeležava se važnost prevencije kardiovaskularnih bolesti kroz zdravu ishranu\, fizičku aktivnost i brigu o zdravlju. Srce je simbol života i održivosti ljudskog blagostanja. \nPoruka: Čuvaj svoje srce – zdravlje je temelj održive budućnosti. \nPovezanost sa UN ciljevima održivog razvoja \nSDG 3 Dobro zdravlje i blagostanje
URL:https://budiodrziv.rs/kalendar/svetski-dan-srca/
ATTACH;FMTTYPE=image/webp:https://budiodrziv.rs/wp-content/uploads/2026/02/Sustainability-is-on-everyones-mind--e1771804094398.webp
END:VEVENT
BEGIN:VEVENT
DTSTART;VALUE=DATE:20261120
DTEND;VALUE=DATE:20261121
DTSTAMP:20260424T121918
CREATED:20260202T130635Z
LAST-MODIFIED:20260225T082100Z
UID:2460-1795132800-1795219199@budiodrziv.rs
SUMMARY:Svetski dan deteta
DESCRIPTION:Obeležava se pravo svakog deteta na obrazovanje\, zdravlje i zaštitu. \nDeca su budućnost održivog sveta. \nPoruka: Svako dete zaslužuje šansu – ulaži u njihovu budućnost. \nPovezanost sa UN ciljevima održivog razvoja \nSDG 4 Kvalitetno obrazovanje \nSDG 3 Dobro zdravlje i blagostanje
URL:https://budiodrziv.rs/kalendar/svetski-dan-deteta/
ATTACH;FMTTYPE=image/jpeg:https://budiodrziv.rs/wp-content/uploads/2026/02/pexels-photo-296301-296301-scaled-e1772007578421.jpg
END:VEVENT
END:VCALENDAR