BEGIN:VCALENDAR
VERSION:2.0
PRODID:-// - ECPv6.15.20//NONSGML v1.0//EN
CALSCALE:GREGORIAN
METHOD:PUBLISH
X-ORIGINAL-URL:https://budiodrziv.rs
X-WR-CALDESC:Events for 
REFRESH-INTERVAL;VALUE=DURATION:PT1H
X-Robots-Tag:noindex
X-PUBLISHED-TTL:PT1H
BEGIN:VTIMEZONE
TZID:Europe/Belgrade
BEGIN:DAYLIGHT
TZOFFSETFROM:+0100
TZOFFSETTO:+0200
TZNAME:CEST
DTSTART:20250330T010000
END:DAYLIGHT
BEGIN:STANDARD
TZOFFSETFROM:+0200
TZOFFSETTO:+0100
TZNAME:CET
DTSTART:20251026T010000
END:STANDARD
BEGIN:DAYLIGHT
TZOFFSETFROM:+0100
TZOFFSETTO:+0200
TZNAME:CEST
DTSTART:20260329T010000
END:DAYLIGHT
BEGIN:STANDARD
TZOFFSETFROM:+0200
TZOFFSETTO:+0100
TZNAME:CET
DTSTART:20261025T010000
END:STANDARD
BEGIN:DAYLIGHT
TZOFFSETFROM:+0100
TZOFFSETTO:+0200
TZNAME:CEST
DTSTART:20270328T010000
END:DAYLIGHT
BEGIN:STANDARD
TZOFFSETFROM:+0200
TZOFFSETTO:+0100
TZNAME:CET
DTSTART:20271031T010000
END:STANDARD
END:VTIMEZONE
BEGIN:VEVENT
DTSTART;VALUE=DATE:20260522
DTEND;VALUE=DATE:20260523
DTSTAMP:20260425T214658
CREATED:20260201T140327Z
LAST-MODIFIED:20260201T140639Z
UID:2246-1779408000-1779494399@budiodrziv.rs
SUMMARY:Svetski dan biodiverziteta
DESCRIPTION:Slavi se raznolikost života na Zemlji i potreba za njegovom zaštitom. \nBiodiverzitet je osnova otpornosti prirode i ljudi. \nPoruka: Biodiverzitet je bogatstvo – čuvaj ga za budućnost. \nPovezanost sa UN ciljevima održivog razvoja \nSDG 15 Život na kopnu
URL:https://budiodrziv.rs/kalendar/svetski-dan-biodiverziteta/
ATTACH;FMTTYPE=image/jpeg:https://budiodrziv.rs/wp-content/uploads/2026/02/Lastin-rep-na-repici-e1776934206104.jpg
END:VEVENT
BEGIN:VEVENT
DTSTART;VALUE=DATE:20260524
DTEND;VALUE=DATE:20260525
DTSTAMP:20260425T214658
CREATED:20260201T141722Z
LAST-MODIFIED:20260326T063710Z
UID:2250-1779580800-1779667199@budiodrziv.rs
SUMMARY:Evropski dan parkova
DESCRIPTION:Obeležava se značaj zaštićenih područja u očuvanju prirode i rekreaciji. \nParkovi povezuju ljude sa prirodom. \nPoruka: Parkovi su oaze održivosti – čuvaj ih i koristi odgovorno. \nPovezanost sa UN ciljevima održivog razvoja \nSDG 15 Život na kopnu \nSDG 11 Održivi gradovi i zajednice
URL:https://budiodrziv.rs/kalendar/evropski-dan-parkova/
ATTACH;FMTTYPE=image/jpeg:https://budiodrziv.rs/wp-content/uploads/2026/02/Bototanical-garden-park-e1775324194868.jpg
END:VEVENT
BEGIN:VEVENT
DTSTART;VALUE=DATE:20260827
DTEND;VALUE=DATE:20260828
DTSTAMP:20260425T214658
CREATED:20260201T175619Z
LAST-MODIFIED:20260222T235556Z
UID:2318-1787788800-1787875199@budiodrziv.rs
SUMMARY:Svetski dan jezera
DESCRIPTION:Podseća na značaj jezera kao izvora vode\, hrane i biodiverziteta. \nNjihova zaštita je ključna za lokalne zajednice i prirodu. \nPoruka: Jezera su ogledala prirode – čuvaj ih za buduće generacije. \nPovezanost sa UN ciljevima održivog razvoja \nSDG 6 Čista voda i sanitarni uslovi \nSDG 15 Život na kopnu
URL:https://budiodrziv.rs/kalendar/svetski-dan-jezera/
ATTACH;FMTTYPE=image/jpeg:https://budiodrziv.rs/wp-content/uploads/2026/02/Ohrid-lake-Macedonia-by-Sandra-Pejovic-e1771804549600.jpg
END:VEVENT
END:VCALENDAR