BEGIN:VCALENDAR
VERSION:2.0
PRODID:-// - ECPv6.15.20//NONSGML v1.0//EN
CALSCALE:GREGORIAN
METHOD:PUBLISH
X-ORIGINAL-URL:https://budiodrziv.rs
X-WR-CALDESC:Events for 
REFRESH-INTERVAL;VALUE=DURATION:PT1H
X-Robots-Tag:noindex
X-PUBLISHED-TTL:PT1H
BEGIN:VTIMEZONE
TZID:Europe/Belgrade
BEGIN:DAYLIGHT
TZOFFSETFROM:+0100
TZOFFSETTO:+0200
TZNAME:CEST
DTSTART:20250330T010000
END:DAYLIGHT
BEGIN:STANDARD
TZOFFSETFROM:+0200
TZOFFSETTO:+0100
TZNAME:CET
DTSTART:20251026T010000
END:STANDARD
BEGIN:DAYLIGHT
TZOFFSETFROM:+0100
TZOFFSETTO:+0200
TZNAME:CEST
DTSTART:20260329T010000
END:DAYLIGHT
BEGIN:STANDARD
TZOFFSETFROM:+0200
TZOFFSETTO:+0100
TZNAME:CET
DTSTART:20261025T010000
END:STANDARD
BEGIN:DAYLIGHT
TZOFFSETFROM:+0100
TZOFFSETTO:+0200
TZNAME:CEST
DTSTART:20270328T010000
END:DAYLIGHT
BEGIN:STANDARD
TZOFFSETFROM:+0200
TZOFFSETTO:+0100
TZNAME:CET
DTSTART:20271031T010000
END:STANDARD
END:VTIMEZONE
BEGIN:VEVENT
DTSTART;VALUE=DATE:20261205
DTEND;VALUE=DATE:20261206
DTSTAMP:20260426T031739
CREATED:20260202T131745Z
LAST-MODIFIED:20260222T232659Z
UID:2469-1796428800-1796515199@budiodrziv.rs
SUMMARY:Međunarodni dan volontera
DESCRIPTION:Slavi se doprinos volontera u zajednicama širom sveta. \nVolontiranje jača solidarnost i društvenu otpornost. \nPoruka: Volontiraj – mali gest menja svet. \nPovezanost sa UN ciljevima održivog razvoja \nSDG 17 Partnerstvom do ciljeva \nSDG 16 Mir\, pravda i snažne institucije
URL:https://budiodrziv.rs/kalendar/medunarodni-dan-volontera/
ATTACH;FMTTYPE=image/jpeg:https://budiodrziv.rs/wp-content/uploads/2026/02/volonteri-1200x800-1-e1771802780805.jpg
END:VEVENT
END:VCALENDAR